BEGIN:VCALENDAR
VERSION:2.0
PRODID:-//Church Of The Messiah, Episcopal - ECPv6.15.20//NONSGML v1.0//EN
CALSCALE:GREGORIAN
METHOD:PUBLISH
X-WR-CALNAME:Church Of The Messiah, Episcopal
X-ORIGINAL-URL:https://churchmessiahpulaski.com
X-WR-CALDESC:Events for Church Of The Messiah, Episcopal
REFRESH-INTERVAL;VALUE=DURATION:PT1H
X-Robots-Tag:noindex
X-PUBLISHED-TTL:PT1H
BEGIN:VTIMEZONE
TZID:UTC
BEGIN:STANDARD
TZOFFSETFROM:+0000
TZOFFSETTO:+0000
TZNAME:UTC
DTSTART:20210101T000000
END:STANDARD
END:VTIMEZONE
BEGIN:VEVENT
DTSTART;TZID=UTC:20220721T130000
DTEND;TZID=UTC:20220721T160000
DTSTAMP:20260421T201545
CREATED:20220622T152405Z
LAST-MODIFIED:20220622T152405Z
UID:2703-1658408400-1658419200@churchmessiahpulaski.com
SUMMARY:Community RFD Setup\, Sharp Annex\, North Second Street
DESCRIPTION:Community RFD Setup\, Sharp Annex\, North Second Street
URL:https://churchmessiahpulaski.com/event/community-rfd-setup-sharp-annex-north-second-street/
END:VEVENT
BEGIN:VEVENT
DTSTART;TZID=UTC:20220720T190000
DTEND;TZID=UTC:20220720T200000
DTSTAMP:20260421T201545
CREATED:20220622T152145Z
LAST-MODIFIED:20220622T152145Z
UID:2701-1658343600-1658347200@churchmessiahpulaski.com
SUMMARY:Wednesday Evening Service Canceled This Week
DESCRIPTION:Wednesday Evening Service Canceled This Week
URL:https://churchmessiahpulaski.com/event/wednesday-evening-service-canceled-this-week-3/
END:VEVENT
BEGIN:VEVENT
DTSTART;TZID=UTC:20220718T070000
DTEND;TZID=UTC:20220718T080000
DTSTAMP:20260421T201545
CREATED:20220622T152024Z
LAST-MODIFIED:20220622T152024Z
UID:2699-1658127600-1658131200@churchmessiahpulaski.com
SUMMARY:Morning Prayer
DESCRIPTION:Morning Prayer
URL:https://churchmessiahpulaski.com/event/morning-prayer-183/
END:VEVENT
BEGIN:VEVENT
DTSTART;TZID=UTC:20220717T070000
DTEND;TZID=UTC:20220717T080000
DTSTAMP:20260421T201545
CREATED:20220622T151933Z
LAST-MODIFIED:20220622T151933Z
UID:2697-1658041200-1658044800@churchmessiahpulaski.com
SUMMARY:Holy Eucharist
DESCRIPTION:Holy Eucharist
URL:https://churchmessiahpulaski.com/event/holy-eucharist-169/
END:VEVENT
BEGIN:VEVENT
DTSTART;TZID=UTC:20220713T190000
DTEND;TZID=UTC:20220713T200000
DTSTAMP:20260421T201545
CREATED:20220622T151835Z
LAST-MODIFIED:20220622T151835Z
UID:2695-1657738800-1657742400@churchmessiahpulaski.com
SUMMARY:Holy Communion
DESCRIPTION:Holy Communion
URL:https://churchmessiahpulaski.com/event/holy-communion-146/
END:VEVENT
BEGIN:VEVENT
DTSTART;TZID=UTC:20220711T070000
DTEND;TZID=UTC:20220711T080000
DTSTAMP:20260421T201545
CREATED:20220622T151749Z
LAST-MODIFIED:20220622T151749Z
UID:2693-1657522800-1657526400@churchmessiahpulaski.com
SUMMARY:Morning Prayer
DESCRIPTION:Morning Prayer
URL:https://churchmessiahpulaski.com/event/morning-prayer-182/
END:VEVENT
BEGIN:VEVENT
DTSTART;TZID=UTC:20220710T100000
DTEND;TZID=UTC:20220710T113000
DTSTAMP:20260421T201545
CREATED:20220622T151705Z
LAST-MODIFIED:20220622T151705Z
UID:2691-1657447200-1657452600@churchmessiahpulaski.com
SUMMARY:Holy Eucharist
DESCRIPTION:Holy Eucharist
URL:https://churchmessiahpulaski.com/event/holy-eucharist-168/
END:VEVENT
BEGIN:VEVENT
DTSTART;TZID=UTC:20220706T190000
DTEND;TZID=UTC:20220706T200000
DTSTAMP:20260421T201545
CREATED:20220622T151423Z
LAST-MODIFIED:20220622T151423Z
UID:2685-1657134000-1657137600@churchmessiahpulaski.com
SUMMARY:Holy Communion
DESCRIPTION:Holy Communion
URL:https://churchmessiahpulaski.com/event/holy-communion-143/
END:VEVENT
BEGIN:VEVENT
DTSTART;TZID=UTC:20220704T070000
DTEND;TZID=UTC:20220704T080000
DTSTAMP:20260421T201545
CREATED:20220622T151614Z
LAST-MODIFIED:20220622T151614Z
UID:2689-1656918000-1656921600@churchmessiahpulaski.com
SUMMARY:Morning Prayer
DESCRIPTION:Morning Prayer
URL:https://churchmessiahpulaski.com/event/morning-prayer-181/
END:VEVENT
BEGIN:VEVENT
DTSTART;VALUE=DATE:20220704
DTEND;VALUE=DATE:20220705
DTSTAMP:20260421T201545
CREATED:20220622T151335Z
LAST-MODIFIED:20220622T151335Z
UID:2683-1656892800-1656979199@churchmessiahpulaski.com
SUMMARY:Church Office Closed
DESCRIPTION:Church Office Closed
URL:https://churchmessiahpulaski.com/event/church-office-closed-10/
END:VEVENT
BEGIN:VEVENT
DTSTART;TZID=UTC:20220703T100000
DTEND;TZID=UTC:20220703T113000
DTSTAMP:20260421T201545
CREATED:20220622T151245Z
LAST-MODIFIED:20220622T151245Z
UID:2681-1656842400-1656847800@churchmessiahpulaski.com
SUMMARY:Holy Eucharist
DESCRIPTION:Holy Eucharist
URL:https://churchmessiahpulaski.com/event/holy-eucharist-167/
END:VEVENT
BEGIN:VEVENT
DTSTART;TZID=UTC:20220629T190000
DTEND;TZID=UTC:20220629T200000
DTSTAMP:20260421T201545
CREATED:20220524T190638Z
LAST-MODIFIED:20220524T190638Z
UID:2671-1656529200-1656532800@churchmessiahpulaski.com
SUMMARY:Holy Communion
DESCRIPTION:Holy Communion
URL:https://churchmessiahpulaski.com/event/holy-communion-145/
END:VEVENT
BEGIN:VEVENT
DTSTART;TZID=UTC:20220627T070000
DTEND;TZID=UTC:20220627T080000
DTSTAMP:20260421T201545
CREATED:20220524T190553Z
LAST-MODIFIED:20220524T190553Z
UID:2669-1656313200-1656316800@churchmessiahpulaski.com
SUMMARY:Morning Prayer
DESCRIPTION:Morning Prayer
URL:https://churchmessiahpulaski.com/event/morning-prayer-180/
END:VEVENT
BEGIN:VEVENT
DTSTART;TZID=UTC:20220626T100000
DTEND;TZID=UTC:20220626T120000
DTSTAMP:20260421T201545
CREATED:20220524T190424Z
LAST-MODIFIED:20220524T190424Z
UID:2666-1656237600-1656244800@churchmessiahpulaski.com
SUMMARY:Holy Eucharist
DESCRIPTION:Holy Eucharist
URL:https://churchmessiahpulaski.com/event/holy-eucharist-166/
END:VEVENT
BEGIN:VEVENT
DTSTART;TZID=UTC:20220622T190000
DTEND;TZID=UTC:20220622T200000
DTSTAMP:20260421T201545
CREATED:20220524T190328Z
LAST-MODIFIED:20220524T190328Z
UID:2664-1655924400-1655928000@churchmessiahpulaski.com
SUMMARY:Holy Communion
DESCRIPTION:Holy Communion
URL:https://churchmessiahpulaski.com/event/holy-communion-144/
END:VEVENT
BEGIN:VEVENT
DTSTART;TZID=UTC:20220620T070000
DTEND;TZID=UTC:20220620T080000
DTSTAMP:20260421T201545
CREATED:20220524T190220Z
LAST-MODIFIED:20220524T190220Z
UID:2662-1655708400-1655712000@churchmessiahpulaski.com
SUMMARY:Morning Prayer
DESCRIPTION:Morning Prayer
URL:https://churchmessiahpulaski.com/event/morning-prayer-179/
END:VEVENT
BEGIN:VEVENT
DTSTART;TZID=UTC:20220619T100000
DTEND;TZID=UTC:20220619T120000
DTSTAMP:20260421T201545
CREATED:20220524T190135Z
LAST-MODIFIED:20220524T190135Z
UID:2660-1655632800-1655640000@churchmessiahpulaski.com
SUMMARY:Holy Eucharist
DESCRIPTION:Holy Eucharist
URL:https://churchmessiahpulaski.com/event/holy-eucharist-165/
END:VEVENT
BEGIN:VEVENT
DTSTART;TZID=UTC:20220618T080000
DTEND;TZID=UTC:20220618T110000
DTSTAMP:20260421T201545
CREATED:20220524T191120Z
LAST-MODIFIED:20220524T191120Z
UID:2675-1655539200-1655550000@churchmessiahpulaski.com
SUMMARY:RFD Distribution Day\, Giles County AG Park\, Highway 31 South
DESCRIPTION:RFD Distribution Day\, Giles County AG Park\, Highway 31 South
URL:https://churchmessiahpulaski.com/event/rfd-distribution-day-giles-county-ag-park-highway-31-south/
END:VEVENT
BEGIN:VEVENT
DTSTART;TZID=UTC:20220616T173000
DTEND;TZID=UTC:20220616T193000
DTSTAMP:20260421T201545
CREATED:20220524T190949Z
LAST-MODIFIED:20220524T190949Z
UID:2673-1655400600-1655407800@churchmessiahpulaski.com
SUMMARY:RFD Packing Food Boxes\, Sharp Annex\, North Second Street
DESCRIPTION:RFD Packing Food Boxes\, Sharp Annex\, North Second Street
URL:https://churchmessiahpulaski.com/event/rfd-packing-food-boxes-sharp-annex-north-second-street-9/
END:VEVENT
BEGIN:VEVENT
DTSTART;TZID=UTC:20220615T190000
DTEND;TZID=UTC:20220615T200000
DTSTAMP:20260421T201545
CREATED:20220524T185727Z
LAST-MODIFIED:20220601T193520Z
UID:2658-1655319600-1655323200@churchmessiahpulaski.com
SUMMARY:Wednesday Evening Service Canceled This Week
DESCRIPTION:Wednesday Evening Service Canceled This Week
URL:https://churchmessiahpulaski.com/event/wednesday-evening-service-cancel-this-week/
END:VEVENT
BEGIN:VEVENT
DTSTART;TZID=UTC:20220613T070000
DTEND;TZID=UTC:20220613T080000
DTSTAMP:20260421T201545
CREATED:20220524T185636Z
LAST-MODIFIED:20220524T185636Z
UID:2656-1655103600-1655107200@churchmessiahpulaski.com
SUMMARY:Morning Prayer
DESCRIPTION:Morning Prayer
URL:https://churchmessiahpulaski.com/event/morning-prayer-178/
END:VEVENT
BEGIN:VEVENT
DTSTART;TZID=UTC:20220612T100000
DTEND;TZID=UTC:20220612T120000
DTSTAMP:20260421T201545
CREATED:20220524T185542Z
LAST-MODIFIED:20220524T185542Z
UID:2654-1655028000-1655035200@churchmessiahpulaski.com
SUMMARY:Holy Eucharist
DESCRIPTION:Holy Eucharist
URL:https://churchmessiahpulaski.com/event/holy-eucharist-164/
END:VEVENT
BEGIN:VEVENT
DTSTART;TZID=UTC:20220608T190000
DTEND;TZID=UTC:20220608T200000
DTSTAMP:20260421T201545
CREATED:20220519T203111Z
LAST-MODIFIED:20220519T203111Z
UID:2652-1654714800-1654718400@churchmessiahpulaski.com
SUMMARY:Holy Communion
DESCRIPTION:Holy Communion
URL:https://churchmessiahpulaski.com/event/holy-communion-142/
END:VEVENT
BEGIN:VEVENT
DTSTART;TZID=UTC:20220606T070000
DTEND;TZID=UTC:20220606T080000
DTSTAMP:20260421T201545
CREATED:20220517T164821Z
LAST-MODIFIED:20220517T164821Z
UID:2650-1654498800-1654502400@churchmessiahpulaski.com
SUMMARY:Morning Prayer
DESCRIPTION:Morning Prayer
URL:https://churchmessiahpulaski.com/event/morning-prayer-177/
END:VEVENT
BEGIN:VEVENT
DTSTART;TZID=UTC:20220605T113000
DTEND;TZID=UTC:20220605T133000
DTSTAMP:20260421T201545
CREATED:20220422T194615Z
LAST-MODIFIED:20220601T192514Z
UID:2643-1654428600-1654435800@churchmessiahpulaski.com
SUMMARY:Pentecost Picnic in Parish Hall Immediately Following Church Service
DESCRIPTION:Pentecost Picnic in the Parish Hall Immediately Following Church Service
URL:https://churchmessiahpulaski.com/event/pentecost-picnic-immediately-following-church-service-in-the-garden/
END:VEVENT
BEGIN:VEVENT
DTSTART;TZID=UTC:20220605T100000
DTEND;TZID=UTC:20220605T120000
DTSTAMP:20260421T201545
CREATED:20220422T194407Z
LAST-MODIFIED:20220422T194407Z
UID:2641-1654423200-1654430400@churchmessiahpulaski.com
SUMMARY:Holy Eucharist - Pentecost Sunday
DESCRIPTION:Holy Eucharist – Pentecost Sunday
URL:https://churchmessiahpulaski.com/event/holy-eucharist-pentecost-sunday/
END:VEVENT
BEGIN:VEVENT
DTSTART;TZID=UTC:20220601T190000
DTEND;TZID=UTC:20220601T200000
DTSTAMP:20260421T201545
CREATED:20220422T194247Z
LAST-MODIFIED:20220422T194247Z
UID:2639-1654110000-1654113600@churchmessiahpulaski.com
SUMMARY:Holy Communion
DESCRIPTION:Holy Communion
URL:https://churchmessiahpulaski.com/event/holy-communion-141/
END:VEVENT
BEGIN:VEVENT
DTSTART;TZID=UTC:20220530T070000
DTEND;TZID=UTC:20220530T080000
DTSTAMP:20260421T201545
CREATED:20220422T194203Z
LAST-MODIFIED:20220422T194203Z
UID:2637-1653894000-1653897600@churchmessiahpulaski.com
SUMMARY:Morning Prayer
DESCRIPTION:Morning Prayer
URL:https://churchmessiahpulaski.com/event/morning-prayer-176/
END:VEVENT
BEGIN:VEVENT
DTSTART;VALUE=DATE:20220530
DTEND;VALUE=DATE:20220531
DTSTAMP:20260421T201545
CREATED:20220503T192823Z
LAST-MODIFIED:20220503T192823Z
UID:2647-1653868800-1653955199@churchmessiahpulaski.com
SUMMARY:Office Closed in Observance of Memorial Day
DESCRIPTION:Office Closed in Observance of Memorial Day
URL:https://churchmessiahpulaski.com/event/office-closed-in-observance-of-memorial-day/
END:VEVENT
BEGIN:VEVENT
DTSTART;TZID=UTC:20220529T100000
DTEND;TZID=UTC:20220529T113000
DTSTAMP:20260421T201545
CREATED:20220422T194120Z
LAST-MODIFIED:20220422T194120Z
UID:2635-1653818400-1653823800@churchmessiahpulaski.com
SUMMARY:Holy Eucharist
DESCRIPTION:Holy Eucharist
URL:https://churchmessiahpulaski.com/event/holy-eucharist-163/
END:VEVENT
END:VCALENDAR