BEGIN:VCALENDAR
VERSION:2.0
PRODID:-//Church Of The Messiah, Episcopal - ECPv6.15.20//NONSGML v1.0//EN
CALSCALE:GREGORIAN
METHOD:PUBLISH
X-ORIGINAL-URL:https://churchmessiahpulaski.com
X-WR-CALDESC:Events for Church Of The Messiah, Episcopal
REFRESH-INTERVAL;VALUE=DURATION:PT1H
X-Robots-Tag:noindex
X-PUBLISHED-TTL:PT1H
BEGIN:VTIMEZONE
TZID:UTC
BEGIN:STANDARD
TZOFFSETFROM:+0000
TZOFFSETTO:+0000
TZNAME:UTC
DTSTART:20210101T000000
END:STANDARD
END:VTIMEZONE
BEGIN:VEVENT
DTSTART;TZID=UTC:20221127T100000
DTEND;TZID=UTC:20221127T120000
DTSTAMP:20260421T171652
CREATED:20221101T172313Z
LAST-MODIFIED:20221101T172313Z
UID:2875-1669543200-1669550400@churchmessiahpulaski.com
SUMMARY:Holy Eucharist
DESCRIPTION:Holy Eucharist
URL:https://churchmessiahpulaski.com/event/holy-eucharist-185/
END:VEVENT
BEGIN:VEVENT
DTSTART;TZID=UTC:20221128T070000
DTEND;TZID=UTC:20221128T080000
DTSTAMP:20260421T171652
CREATED:20221101T172708Z
LAST-MODIFIED:20221101T172708Z
UID:2877-1669618800-1669622400@churchmessiahpulaski.com
SUMMARY:Morning Prayer
DESCRIPTION:Morning Prayer
URL:https://churchmessiahpulaski.com/event/morning-prayer-203/
END:VEVENT
BEGIN:VEVENT
DTSTART;TZID=UTC:20221130T190000
DTEND;TZID=UTC:20221130T200000
DTSTAMP:20260421T171652
CREATED:20221101T172752Z
LAST-MODIFIED:20221101T172752Z
UID:2879-1669834800-1669838400@churchmessiahpulaski.com
SUMMARY:Holy Communion
DESCRIPTION:Holy Communion
URL:https://churchmessiahpulaski.com/event/holy-communion-162/
END:VEVENT
BEGIN:VEVENT
DTSTART;TZID=UTC:20221204T100000
DTEND;TZID=UTC:20221204T120000
DTSTAMP:20260421T171652
CREATED:20221201T150733Z
LAST-MODIFIED:20221201T150733Z
UID:2885-1670148000-1670155200@churchmessiahpulaski.com
SUMMARY:Holy Eucharist
DESCRIPTION:Holy Eucharist
URL:https://churchmessiahpulaski.com/event/holy-eucharist-186/
END:VEVENT
BEGIN:VEVENT
DTSTART;TZID=UTC:20221205T070000
DTEND;TZID=UTC:20221205T070000
DTSTAMP:20260421T171652
CREATED:20221201T150820Z
LAST-MODIFIED:20221201T150820Z
UID:2887-1670223600-1670223600@churchmessiahpulaski.com
SUMMARY:Morning Prayer
DESCRIPTION:Morning Prayer
URL:https://churchmessiahpulaski.com/event/morning-prayer-204/
END:VEVENT
BEGIN:VEVENT
DTSTART;TZID=UTC:20221207T190000
DTEND;TZID=UTC:20221207T200000
DTSTAMP:20260421T171652
CREATED:20221201T150900Z
LAST-MODIFIED:20221201T150900Z
UID:2889-1670439600-1670443200@churchmessiahpulaski.com
SUMMARY:Holy Communion
DESCRIPTION:Holy Communion
URL:https://churchmessiahpulaski.com/event/holy-communion-163/
END:VEVENT
BEGIN:VEVENT
DTSTART;TZID=UTC:20221211T100000
DTEND;TZID=UTC:20221211T120000
DTSTAMP:20260421T171652
CREATED:20221201T150943Z
LAST-MODIFIED:20221201T150943Z
UID:2891-1670752800-1670760000@churchmessiahpulaski.com
SUMMARY:Holy Eucharist
DESCRIPTION:Holy Eucharist
URL:https://churchmessiahpulaski.com/event/holy-eucharist-187/
END:VEVENT
BEGIN:VEVENT
DTSTART;TZID=UTC:20221212T070000
DTEND;TZID=UTC:20221212T080000
DTSTAMP:20260421T171652
CREATED:20221201T151025Z
LAST-MODIFIED:20221201T151025Z
UID:2893-1670828400-1670832000@churchmessiahpulaski.com
SUMMARY:Morning Prayer
DESCRIPTION:Morning Prayer
URL:https://churchmessiahpulaski.com/event/morning-prayer-205/
END:VEVENT
BEGIN:VEVENT
DTSTART;TZID=UTC:20221214T190000
DTEND;TZID=UTC:20221214T200000
DTSTAMP:20260421T171652
CREATED:20221201T151117Z
LAST-MODIFIED:20221201T151117Z
UID:2895-1671044400-1671048000@churchmessiahpulaski.com
SUMMARY:Holy Communion
DESCRIPTION:Holy Communion
URL:https://churchmessiahpulaski.com/event/holy-communion-164/
END:VEVENT
BEGIN:VEVENT
DTSTART;TZID=UTC:20221215T173000
DTEND;TZID=UTC:20221215T193000
DTSTAMP:20260421T171652
CREATED:20221201T151603Z
LAST-MODIFIED:20221201T151603Z
UID:2903-1671125400-1671132600@churchmessiahpulaski.com
SUMMARY:Community RFD Packing Food Boxes\, Sharp Annex\, North Second Street
DESCRIPTION:Community RFD Packing Food Boxes\, Sharp Annex\, North Second Street
URL:https://churchmessiahpulaski.com/event/community-rfd-packing-food-boxes-sharp-annex-north-second-street-3/
END:VEVENT
BEGIN:VEVENT
DTSTART;TZID=UTC:20221217T080000
DTEND;TZID=UTC:20221217T110000
DTSTAMP:20260421T171652
CREATED:20221201T151732Z
LAST-MODIFIED:20221201T151732Z
UID:2905-1671264000-1671274800@churchmessiahpulaski.com
SUMMARY:Community RFD Distribution\, GC Agriculture Park\, Hwy 31 South
DESCRIPTION:Community RFD Distribution\, GC Agriculture Park\, Hwy 31 South
URL:https://churchmessiahpulaski.com/event/community-rfd-distribution-gc-agriculture-park-hwy-31-south/
END:VEVENT
BEGIN:VEVENT
DTSTART;TZID=UTC:20221218T100000
DTEND;TZID=UTC:20221218T120000
DTSTAMP:20260421T171652
CREATED:20221201T151243Z
LAST-MODIFIED:20221201T151243Z
UID:2897-1671357600-1671364800@churchmessiahpulaski.com
SUMMARY:Holy Eucharist
DESCRIPTION:Holy Eucharist
URL:https://churchmessiahpulaski.com/event/holy-eucharist-188/
END:VEVENT
BEGIN:VEVENT
DTSTART;TZID=UTC:20221221T070000
DTEND;TZID=UTC:20221221T080000
DTSTAMP:20260421T171652
CREATED:20221201T151328Z
LAST-MODIFIED:20221201T151328Z
UID:2899-1671606000-1671609600@churchmessiahpulaski.com
SUMMARY:Morning Prayer
DESCRIPTION:Morning Prayer
URL:https://churchmessiahpulaski.com/event/morning-prayer-206/
END:VEVENT
BEGIN:VEVENT
DTSTART;TZID=UTC:20221221T190000
DTEND;TZID=UTC:20221221T200000
DTSTAMP:20260421T171652
CREATED:20221201T151413Z
LAST-MODIFIED:20221201T151413Z
UID:2901-1671649200-1671652800@churchmessiahpulaski.com
SUMMARY:Holy Communion
DESCRIPTION:Holy Communion
URL:https://churchmessiahpulaski.com/event/holy-communion-165/
END:VEVENT
BEGIN:VEVENT
DTSTART;TZID=UTC:20221224T223000
DTEND;TZID=UTC:20221224T233000
DTSTAMP:20260421T171652
CREATED:20221201T151838Z
LAST-MODIFIED:20221201T151838Z
UID:2907-1671921000-1671924600@churchmessiahpulaski.com
SUMMARY:Christmas Eve Service
DESCRIPTION:Christmas Eve Service
URL:https://churchmessiahpulaski.com/event/christmas-eve-service-4/
END:VEVENT
BEGIN:VEVENT
DTSTART;TZID=UTC:20221225T100000
DTEND;TZID=UTC:20221225T120000
DTSTAMP:20260421T171652
CREATED:20221201T151937Z
LAST-MODIFIED:20221201T151937Z
UID:2909-1671962400-1671969600@churchmessiahpulaski.com
SUMMARY:Holy Eucharist Christmas Day
DESCRIPTION:Holy Eucharist Christmas Day
URL:https://churchmessiahpulaski.com/event/holy-eucharist-christmas-day/
END:VEVENT
BEGIN:VEVENT
DTSTART;VALUE=DATE:20221226
DTEND;VALUE=DATE:20221227
DTSTAMP:20260421T171652
CREATED:20221201T152053Z
LAST-MODIFIED:20221201T152053Z
UID:2911-1672012800-1672099199@churchmessiahpulaski.com
SUMMARY:Church Office Closed in Observance of Christmas
DESCRIPTION:Church Office Closed in Observance of Christmas
URL:https://churchmessiahpulaski.com/event/church-office-closed-in-observance-of-christmas/
END:VEVENT
BEGIN:VEVENT
DTSTART;TZID=UTC:20221228T190000
DTEND;TZID=UTC:20221228T200000
DTSTAMP:20260421T171652
CREATED:20221201T152248Z
LAST-MODIFIED:20221201T152248Z
UID:2913-1672254000-1672257600@churchmessiahpulaski.com
SUMMARY:Wednesday Evening Service Canceled
DESCRIPTION:Wednesday Evening Service Canceled
URL:https://churchmessiahpulaski.com/event/wednesday-evening-service-canceled-2/
END:VEVENT
BEGIN:VEVENT
DTSTART;VALUE=DATE:20221230
DTEND;VALUE=DATE:20221231
DTSTAMP:20260421T171652
CREATED:20221205T183519Z
LAST-MODIFIED:20221205T183519Z
UID:2917-1672358400-1672444799@churchmessiahpulaski.com
SUMMARY:Church Office Closed
DESCRIPTION:Church Office Closed
URL:https://churchmessiahpulaski.com/event/church-office-closed-11/
END:VEVENT
BEGIN:VEVENT
DTSTART;TZID=UTC:20230101T100000
DTEND;TZID=UTC:20230101T120000
DTSTAMP:20260421T171652
CREATED:20221206T154249Z
LAST-MODIFIED:20221206T154249Z
UID:2919-1672567200-1672574400@churchmessiahpulaski.com
SUMMARY:Holy Eucharist
DESCRIPTION:Holy Eucharist
URL:https://churchmessiahpulaski.com/event/holy-eucharist-189/
END:VEVENT
BEGIN:VEVENT
DTSTART;VALUE=DATE:20230102
DTEND;VALUE=DATE:20230103
DTSTAMP:20260421T171652
CREATED:20221208T163733Z
LAST-MODIFIED:20221208T163733Z
UID:2964-1672617600-1672703999@churchmessiahpulaski.com
SUMMARY:Church Office Closed for New Year's Day
DESCRIPTION:Church Office Closed for New Year’s Day
URL:https://churchmessiahpulaski.com/event/church-office-closed-for-new-years-day/
END:VEVENT
BEGIN:VEVENT
DTSTART;TZID=UTC:20230102T070000
DTEND;TZID=UTC:20230102T080000
DTSTAMP:20260421T171652
CREATED:20221206T154357Z
LAST-MODIFIED:20221206T154357Z
UID:2921-1672642800-1672646400@churchmessiahpulaski.com
SUMMARY:Morning Prayer
DESCRIPTION:Morning Prayer
URL:https://churchmessiahpulaski.com/event/morning-prayer-207/
END:VEVENT
BEGIN:VEVENT
DTSTART;TZID=UTC:20230104T190000
DTEND;TZID=UTC:20230104T200000
DTSTAMP:20260421T171652
CREATED:20221208T163114Z
LAST-MODIFIED:20221208T163114Z
UID:2956-1672858800-1672862400@churchmessiahpulaski.com
SUMMARY:Wednesday Evening Service Canceled
DESCRIPTION:Wednesday Evening Service Canceled
URL:https://churchmessiahpulaski.com/event/wednesday-evening-service-canceled-3/
END:VEVENT
BEGIN:VEVENT
DTSTART;TZID=UTC:20230108T100000
DTEND;TZID=UTC:20230108T120000
DTSTAMP:20260421T171652
CREATED:20221206T154543Z
LAST-MODIFIED:20221206T154543Z
UID:2923-1673172000-1673179200@churchmessiahpulaski.com
SUMMARY:Holy Eucharist
DESCRIPTION:Holy Eucharist
URL:https://churchmessiahpulaski.com/event/holy-eucharist-190/
END:VEVENT
BEGIN:VEVENT
DTSTART;TZID=UTC:20230109T070000
DTEND;TZID=UTC:20230109T080000
DTSTAMP:20260421T171652
CREATED:20221206T154625Z
LAST-MODIFIED:20221206T154625Z
UID:2925-1673247600-1673251200@churchmessiahpulaski.com
SUMMARY:Morning Prayer
DESCRIPTION:Morning Prayer
URL:https://churchmessiahpulaski.com/event/morning-prayer-208/
END:VEVENT
BEGIN:VEVENT
DTSTART;TZID=UTC:20230109T180000
DTEND;TZID=UTC:20230109T200000
DTSTAMP:20260421T171652
CREATED:20221206T154713Z
LAST-MODIFIED:20221206T154713Z
UID:2927-1673287200-1673294400@churchmessiahpulaski.com
SUMMARY:Vestry Meeting
DESCRIPTION:Vestry Meeting
URL:https://churchmessiahpulaski.com/event/vestry-meeting-24/
END:VEVENT
BEGIN:VEVENT
DTSTART;TZID=UTC:20230111T190000
DTEND;TZID=UTC:20230111T200000
DTSTAMP:20260421T171652
CREATED:20221208T163205Z
LAST-MODIFIED:20221208T163205Z
UID:2958-1673463600-1673467200@churchmessiahpulaski.com
SUMMARY:Wednesday Evening Service Canceled
DESCRIPTION:Wednesday Evening Service Canceled
URL:https://churchmessiahpulaski.com/event/wednesday-evening-service-canceled-4/
END:VEVENT
BEGIN:VEVENT
DTSTART;TZID=UTC:20230115T100000
DTEND;TZID=UTC:20230115T120000
DTSTAMP:20260421T171652
CREATED:20221206T154750Z
LAST-MODIFIED:20221206T154750Z
UID:2929-1673776800-1673784000@churchmessiahpulaski.com
SUMMARY:Holy Eucharist
DESCRIPTION:Holy Eucharist
URL:https://churchmessiahpulaski.com/event/holy-eucharist-191/
END:VEVENT
BEGIN:VEVENT
DTSTART;TZID=UTC:20230116T070000
DTEND;TZID=UTC:20230116T080000
DTSTAMP:20260421T171652
CREATED:20221206T154833Z
LAST-MODIFIED:20221206T154833Z
UID:2931-1673852400-1673856000@churchmessiahpulaski.com
SUMMARY:Morning Prayer
DESCRIPTION:Morning Prayer
URL:https://churchmessiahpulaski.com/event/morning-prayer-209/
END:VEVENT
BEGIN:VEVENT
DTSTART;TZID=UTC:20230118T190000
DTEND;TZID=UTC:20230118T200000
DTSTAMP:20260421T171652
CREATED:20221208T163302Z
LAST-MODIFIED:20221208T163302Z
UID:2960-1674068400-1674072000@churchmessiahpulaski.com
SUMMARY:Wednesday Evening Service Canceled
DESCRIPTION:Wednesday Evening Service Canceled
URL:https://churchmessiahpulaski.com/event/wednesday-evening-service-canceled-5/
END:VEVENT
END:VCALENDAR