BEGIN:VCALENDAR
VERSION:2.0
PRODID:-//Church Of The Messiah, Episcopal - ECPv6.15.20//NONSGML v1.0//EN
CALSCALE:GREGORIAN
METHOD:PUBLISH
X-ORIGINAL-URL:https://churchmessiahpulaski.com
X-WR-CALDESC:Events for Church Of The Messiah, Episcopal
REFRESH-INTERVAL;VALUE=DURATION:PT1H
X-Robots-Tag:noindex
X-PUBLISHED-TTL:PT1H
BEGIN:VTIMEZONE
TZID:UTC
BEGIN:STANDARD
TZOFFSETFROM:+0000
TZOFFSETTO:+0000
TZNAME:UTC
DTSTART:20240101T000000
END:STANDARD
END:VTIMEZONE
BEGIN:VEVENT
DTSTART;TZID=UTC:20251116T100000
DTEND;TZID=UTC:20251116T120000
DTSTAMP:20260423T061157
CREATED:20251105T154340Z
LAST-MODIFIED:20251105T154340Z
UID:3727-1763287200-1763294400@churchmessiahpulaski.com
SUMMARY:Holy Eucharist
DESCRIPTION:Holy Eucharist
URL:https://churchmessiahpulaski.com/event/holy-eucharist-305/
END:VEVENT
BEGIN:VEVENT
DTSTART;TZID=UTC:20251117T070000
DTEND;TZID=UTC:20251117T080000
DTSTAMP:20260423T061157
CREATED:20251105T154428Z
LAST-MODIFIED:20251105T154428Z
UID:3729-1763362800-1763366400@churchmessiahpulaski.com
SUMMARY:Morning Prayer
DESCRIPTION:Morning Prayer
URL:https://churchmessiahpulaski.com/event/morning-prayer-280/
END:VEVENT
BEGIN:VEVENT
DTSTART;TZID=UTC:20251119T180000
DTEND;TZID=UTC:20251119T203000
DTSTAMP:20260423T061157
CREATED:20251105T154603Z
LAST-MODIFIED:20251105T154603Z
UID:3731-1763575200-1763584200@churchmessiahpulaski.com
SUMMARY:Bishop Bauerschmidt's Annual Visit
DESCRIPTION:Bishop Bauerschmidt’s Annual Visit
URL:https://churchmessiahpulaski.com/event/bishop-bauerschmidts-annual-visit/
END:VEVENT
BEGIN:VEVENT
DTSTART;TZID=UTC:20251123T100000
DTEND;TZID=UTC:20251123T120000
DTSTAMP:20260423T061157
CREATED:20251105T154702Z
LAST-MODIFIED:20251105T154702Z
UID:3733-1763892000-1763899200@churchmessiahpulaski.com
SUMMARY:Holy Eucharist
DESCRIPTION:Holy Eucharist
URL:https://churchmessiahpulaski.com/event/holy-eucharist-306/
END:VEVENT
BEGIN:VEVENT
DTSTART;TZID=UTC:20251222T080000
DTEND;TZID=UTC:20251222T170000
DTSTAMP:20260423T061157
CREATED:20251222T185157Z
LAST-MODIFIED:20251222T185157Z
UID:3756-1766390400-1766422800@churchmessiahpulaski.com
SUMMARY:Christmas Eve Service December 24 10:30 pm to Midnight
DESCRIPTION:Christmas Eve Service December 24 10:30 pm to Midnight
URL:https://churchmessiahpulaski.com/event/christmas-eve-service-december-24-1030-pm-to-midnight/
END:VEVENT
BEGIN:VEVENT
DTSTART;TZID=UTC:20251222T080000
DTEND;TZID=UTC:20251222T170000
DTSTAMP:20260423T061157
CREATED:20251222T185340Z
LAST-MODIFIED:20251222T185340Z
UID:3758-1766390400-1766422800@churchmessiahpulaski.com
SUMMARY:December 25 Christmas Day Holy Eucharist 10:30 a.m.
DESCRIPTION:December 25 Christmas Day Holy Eucharist 10:30 a.m.
URL:https://churchmessiahpulaski.com/event/december-25-christmas-day-holy-eucharist-1030-a-m/
END:VEVENT
BEGIN:VEVENT
DTSTART;TZID=UTC:20260118T110000
DTEND;TZID=UTC:20260118T170000
DTSTAMP:20260423T061157
CREATED:20260108T181811Z
LAST-MODIFIED:20260108T182111Z
UID:3761-1768734000-1768755600@churchmessiahpulaski.com
SUMMARY:Messiah Annual Meeting Sunday January 18 2026
DESCRIPTION:Messiah Annual Meeting Sunday January 18 2026
URL:https://churchmessiahpulaski.com/event/messiah-annual-meeting-sunday-january-18-2026/
END:VEVENT
BEGIN:VEVENT
DTSTART;TZID=UTC:20260217T183000
DTEND;TZID=UTC:20260217T183000
DTSTAMP:20260423T061157
CREATED:20260217T171756Z
LAST-MODIFIED:20260217T171756Z
UID:3764-1771353000-1771353000@churchmessiahpulaski.com
SUMMARY:Shrove Tuesday Pancake Supper February 17 2026 6:30 P.M.
DESCRIPTION:Shrove Tuesday Pancake Supper February 17 2026 6:30 P.M.
URL:https://churchmessiahpulaski.com/event/shrove-tuesday-pancake-supper-february-17-2026-630-p-m/
END:VEVENT
BEGIN:VEVENT
DTSTART;VALUE=DATE:20260218
DTEND;VALUE=DATE:20260219
DTSTAMP:20260423T061157
CREATED:20260217T181957Z
LAST-MODIFIED:20260217T182438Z
UID:3773-1771372800-1771459199@churchmessiahpulaski.com
SUMMARY:Ash Wednesday Service February 18\, 2026\, 12:00 P.M. and 6:00 P.M.
DESCRIPTION:Ash Wednesday Service February 18\, 2026\, 12:00 P.M. and 6:00 P.M.
URL:https://churchmessiahpulaski.com/event/ash-wednesday-service-february-18-2026-1200-p-m-and-600-p-m/
END:VEVENT
BEGIN:VEVENT
DTSTART;TZID=UTC:20260222T100000
DTEND;TZID=UTC:20260222T170000
DTSTAMP:20260423T061157
CREATED:20260217T172517Z
LAST-MODIFIED:20260217T172517Z
UID:3769-1771754400-1771779600@churchmessiahpulaski.com
SUMMARY:Holy Eucharist
DESCRIPTION:Holy Eucharist
URL:https://churchmessiahpulaski.com/event/holy-eucharist-307/
END:VEVENT
BEGIN:VEVENT
DTSTART;TZID=UTC:20260329T100000
DTEND;TZID=UTC:20260329T170000
DTSTAMP:20260423T061157
CREATED:20260324T211248Z
LAST-MODIFIED:20260324T211248Z
UID:3779-1774778400-1774803600@churchmessiahpulaski.com
SUMMARY:Palm Sunday Service 10:00 A.M. Starting in the Garden
DESCRIPTION:Palm Sunday Service 10:00 A.M. Starting in the Garden
URL:https://churchmessiahpulaski.com/event/palm-sunday-service-1000-a-m-starting-in-the-garden/
END:VEVENT
BEGIN:VEVENT
DTSTART;TZID=UTC:20260401T190000
DTEND;TZID=UTC:20260401T190000
DTSTAMP:20260423T061157
CREATED:20260324T211916Z
LAST-MODIFIED:20260324T211916Z
UID:3787-1775070000-1775070000@churchmessiahpulaski.com
SUMMARY:Wednesday Evening Service Holy Eucharist
DESCRIPTION:Wednesday Evening Service Holy Eucharist
URL:https://churchmessiahpulaski.com/event/wednesday-evening-service-holy-eucharist/
END:VEVENT
BEGIN:VEVENT
DTSTART;TZID=UTC:20260402T180000
DTEND;TZID=UTC:20260402T180000
DTSTAMP:20260423T061157
CREATED:20260324T211449Z
LAST-MODIFIED:20260324T211449Z
UID:3781-1775152800-1775152800@churchmessiahpulaski.com
SUMMARY:Maundy Thursday Service 6 p.m.
DESCRIPTION:Maundy Thursday Service 6 p.m.
URL:https://churchmessiahpulaski.com/event/maundy-thursday-service-6-p-m/
END:VEVENT
BEGIN:VEVENT
DTSTART;TZID=UTC:20260403T120000
DTEND;TZID=UTC:20260403T170000
DTSTAMP:20260423T061157
CREATED:20260324T211645Z
LAST-MODIFIED:20260324T211645Z
UID:3783-1775217600-1775235600@churchmessiahpulaski.com
SUMMARY:Good Friday Stations of the Cross at 12:00 p.m.
DESCRIPTION:Good Friday Stations of the Cross at 12:00 p.m.
URL:https://churchmessiahpulaski.com/event/good-friday-stations-of-the-cross-at-1200-p-m/
END:VEVENT
BEGIN:VEVENT
DTSTART;TZID=UTC:20260403T180000
DTEND;TZID=UTC:20260403T180000
DTSTAMP:20260423T061157
CREATED:20260324T211801Z
LAST-MODIFIED:20260324T211801Z
UID:3785-1775239200-1775239200@churchmessiahpulaski.com
SUMMARY:Good Friday Service 6:00 P.M.
DESCRIPTION:Good Friday Service 6:00 P.M.
URL:https://churchmessiahpulaski.com/event/good-friday-service-600-p-m/
END:VEVENT
BEGIN:VEVENT
DTSTART;TZID=UTC:20260405T100000
DTEND;TZID=UTC:20260405T170000
DTSTAMP:20260423T061157
CREATED:20260324T212018Z
LAST-MODIFIED:20260324T212018Z
UID:3789-1775383200-1775408400@churchmessiahpulaski.com
SUMMARY:Easter Sunday Holy Eucharist
DESCRIPTION:Easter Sunday Holy Eucharist
URL:https://churchmessiahpulaski.com/event/easter-sunday-holy-eucharist-2/
END:VEVENT
END:VCALENDAR