BEGIN:VCALENDAR
VERSION:2.0
PRODID:-//Church Of The Messiah, Episcopal - ECPv6.15.20//NONSGML v1.0//EN
CALSCALE:GREGORIAN
METHOD:PUBLISH
X-WR-CALNAME:Church Of The Messiah, Episcopal
X-ORIGINAL-URL:https://churchmessiahpulaski.com
X-WR-CALDESC:Events for Church Of The Messiah, Episcopal
REFRESH-INTERVAL;VALUE=DURATION:PT1H
X-Robots-Tag:noindex
X-PUBLISHED-TTL:PT1H
BEGIN:VTIMEZONE
TZID:UTC
BEGIN:STANDARD
TZOFFSETFROM:+0000
TZOFFSETTO:+0000
TZNAME:UTC
DTSTART:20240101T000000
END:STANDARD
END:VTIMEZONE
BEGIN:VEVENT
DTSTART;TZID=UTC:20250528T190000
DTEND;TZID=UTC:20250528T200000
DTSTAMP:20260423T011926
CREATED:20250501T190924Z
LAST-MODIFIED:20250501T190924Z
UID:3635-1748458800-1748462400@churchmessiahpulaski.com
SUMMARY:Wednesday Evening Service Cancelled This Week
DESCRIPTION:Wednesday Evening Service Cancelled This Week
URL:https://churchmessiahpulaski.com/event/wednesday-evening-service-cancelled-this-week-4/
END:VEVENT
BEGIN:VEVENT
DTSTART;TZID=UTC:20250601T100000
DTEND;TZID=UTC:20250601T120000
DTSTAMP:20260423T011926
CREATED:20250521T194638Z
LAST-MODIFIED:20250521T194638Z
UID:3638-1748772000-1748779200@churchmessiahpulaski.com
SUMMARY:Holy Eucharist
DESCRIPTION:Holy Eucharist
URL:https://churchmessiahpulaski.com/event/holy-eucharist-284/
END:VEVENT
BEGIN:VEVENT
DTSTART;TZID=UTC:20250602T070000
DTEND;TZID=UTC:20250602T073000
DTSTAMP:20260423T011926
CREATED:20250521T194723Z
LAST-MODIFIED:20250521T194723Z
UID:3640-1748847600-1748849400@churchmessiahpulaski.com
SUMMARY:Morning Prayer
DESCRIPTION:Morning Prayer
URL:https://churchmessiahpulaski.com/event/morning-prayer-271/
END:VEVENT
BEGIN:VEVENT
DTSTART;TZID=UTC:20250604T190000
DTEND;TZID=UTC:20250604T200000
DTSTAMP:20260423T011926
CREATED:20250521T195315Z
LAST-MODIFIED:20250521T195315Z
UID:3642-1749063600-1749067200@churchmessiahpulaski.com
SUMMARY:Holy Eucharist
DESCRIPTION:Holy Eucharist
URL:https://churchmessiahpulaski.com/event/holy-eucharist-285/
END:VEVENT
BEGIN:VEVENT
DTSTART;TZID=UTC:20250608T100000
DTEND;TZID=UTC:20250608T120000
DTSTAMP:20260423T011926
CREATED:20250521T195401Z
LAST-MODIFIED:20250521T195401Z
UID:3644-1749376800-1749384000@churchmessiahpulaski.com
SUMMARY:Holy Eucharist
DESCRIPTION:Holy Eucharist
URL:https://churchmessiahpulaski.com/event/holy-eucharist-286/
END:VEVENT
BEGIN:VEVENT
DTSTART;TZID=UTC:20250609T070000
DTEND;TZID=UTC:20250609T073000
DTSTAMP:20260423T011926
CREATED:20250521T195452Z
LAST-MODIFIED:20250521T195452Z
UID:3646-1749452400-1749454200@churchmessiahpulaski.com
SUMMARY:Morning Prayer
DESCRIPTION:Morning Prayer
URL:https://churchmessiahpulaski.com/event/morning-prayer-272/
END:VEVENT
BEGIN:VEVENT
DTSTART;TZID=UTC:20250611T190000
DTEND;TZID=UTC:20250611T200000
DTSTAMP:20260423T011926
CREATED:20250521T195551Z
LAST-MODIFIED:20250521T195551Z
UID:3648-1749668400-1749672000@churchmessiahpulaski.com
SUMMARY:Holy Eucharist
DESCRIPTION:Holy Eucharist
URL:https://churchmessiahpulaski.com/event/holy-eucharist-287/
END:VEVENT
BEGIN:VEVENT
DTSTART;TZID=UTC:20250615T100000
DTEND;TZID=UTC:20250615T120000
DTSTAMP:20260423T011926
CREATED:20250521T195713Z
LAST-MODIFIED:20250521T195713Z
UID:3650-1749981600-1749988800@churchmessiahpulaski.com
SUMMARY:Holy Eucharist
DESCRIPTION:Holy Eucharist
URL:https://churchmessiahpulaski.com/event/holy-eucharist-288/
END:VEVENT
BEGIN:VEVENT
DTSTART;TZID=UTC:20250616T070000
DTEND;TZID=UTC:20250616T073000
DTSTAMP:20260423T011926
CREATED:20250521T195806Z
LAST-MODIFIED:20250521T195806Z
UID:3652-1750057200-1750059000@churchmessiahpulaski.com
SUMMARY:Morning Prayer
DESCRIPTION:Morning Prayer
URL:https://churchmessiahpulaski.com/event/morning-prayer-273/
END:VEVENT
BEGIN:VEVENT
DTSTART;TZID=UTC:20250618T190000
DTEND;TZID=UTC:20250618T200000
DTSTAMP:20260423T011926
CREATED:20250521T195848Z
LAST-MODIFIED:20250521T195848Z
UID:3654-1750273200-1750276800@churchmessiahpulaski.com
SUMMARY:Holy Eucharist
DESCRIPTION:Holy Eucharist
URL:https://churchmessiahpulaski.com/event/holy-eucharist-289/
END:VEVENT
BEGIN:VEVENT
DTSTART;TZID=UTC:20250622T100000
DTEND;TZID=UTC:20250622T120000
DTSTAMP:20260423T011926
CREATED:20250521T195934Z
LAST-MODIFIED:20250521T195934Z
UID:3656-1750586400-1750593600@churchmessiahpulaski.com
SUMMARY:Holy Eucharist
DESCRIPTION:Holy Eucharist
URL:https://churchmessiahpulaski.com/event/holy-eucharist-290/
END:VEVENT
BEGIN:VEVENT
DTSTART;TZID=UTC:20250623T070000
DTEND;TZID=UTC:20250623T073000
DTSTAMP:20260423T011926
CREATED:20250521T200013Z
LAST-MODIFIED:20250521T200013Z
UID:3658-1750662000-1750663800@churchmessiahpulaski.com
SUMMARY:Morning Prayer
DESCRIPTION:Morning Prayer
URL:https://churchmessiahpulaski.com/event/morning-prayer-274/
END:VEVENT
BEGIN:VEVENT
DTSTART;TZID=UTC:20250625T190000
DTEND;TZID=UTC:20250625T200000
DTSTAMP:20260423T011926
CREATED:20250521T200056Z
LAST-MODIFIED:20250521T200056Z
UID:3660-1750878000-1750881600@churchmessiahpulaski.com
SUMMARY:Holy Eucharist
DESCRIPTION:Holy Eucharist
URL:https://churchmessiahpulaski.com/event/holy-eucharist-291/
END:VEVENT
BEGIN:VEVENT
DTSTART;TZID=UTC:20250629T100000
DTEND;TZID=UTC:20250629T120000
DTSTAMP:20260423T011926
CREATED:20250521T200147Z
LAST-MODIFIED:20250521T200147Z
UID:3662-1751191200-1751198400@churchmessiahpulaski.com
SUMMARY:Holy Eucharist
DESCRIPTION:Holy Eucharist
URL:https://churchmessiahpulaski.com/event/holy-eucharist-292/
END:VEVENT
BEGIN:VEVENT
DTSTART;TZID=UTC:20250702T173000
DTEND;TZID=UTC:20250702T184500
DTSTAMP:20260423T011926
CREATED:20250701T165547Z
LAST-MODIFIED:20250701T170707Z
UID:3666-1751477400-1751481900@churchmessiahpulaski.com
SUMMARY:Christian Education Class
DESCRIPTION:Christian Education Class
URL:https://churchmessiahpulaski.com/event/christian-education-class-3/
END:VEVENT
BEGIN:VEVENT
DTSTART;TZID=UTC:20250702T190000
DTEND;TZID=UTC:20250702T200000
DTSTAMP:20260423T011926
CREATED:20250701T170750Z
LAST-MODIFIED:20250701T170750Z
UID:3690-1751482800-1751486400@churchmessiahpulaski.com
SUMMARY:Holy Eucharist
DESCRIPTION:Holy Eucharist
URL:https://churchmessiahpulaski.com/event/holy-eucharist-297/
END:VEVENT
BEGIN:VEVENT
DTSTART;TZID=UTC:20250706T100000
DTEND;TZID=UTC:20250706T120000
DTSTAMP:20260423T011926
CREATED:20250701T165631Z
LAST-MODIFIED:20250701T165631Z
UID:3668-1751796000-1751803200@churchmessiahpulaski.com
SUMMARY:Holy Eucharist
DESCRIPTION:Holy Eucharist
URL:https://churchmessiahpulaski.com/event/holy-eucharist-293/
END:VEVENT
BEGIN:VEVENT
DTSTART;TZID=UTC:20250707T070000
DTEND;TZID=UTC:20250707T193000
DTSTAMP:20260423T011926
CREATED:20250701T170022Z
LAST-MODIFIED:20250701T170022Z
UID:3676-1751871600-1751916600@churchmessiahpulaski.com
SUMMARY:Morning Prayer
DESCRIPTION:Morning Prayer
URL:https://churchmessiahpulaski.com/event/morning-prayer-275/
END:VEVENT
BEGIN:VEVENT
DTSTART;TZID=UTC:20250709T173000
DTEND;TZID=UTC:20250709T184500
DTSTAMP:20260423T011926
CREATED:20250701T165848Z
LAST-MODIFIED:20250701T170451Z
UID:3672-1752082200-1752086700@churchmessiahpulaski.com
SUMMARY:Christian Education Class
DESCRIPTION:Christian Education Class
URL:https://churchmessiahpulaski.com/event/christian-education-class-2/
END:VEVENT
BEGIN:VEVENT
DTSTART;TZID=UTC:20250709T190000
DTEND;TZID=UTC:20250709T200000
DTSTAMP:20260423T011926
CREATED:20250701T170548Z
LAST-MODIFIED:20250701T170548Z
UID:3687-1752087600-1752091200@churchmessiahpulaski.com
SUMMARY:Holy Eucharist
DESCRIPTION:Holy Eucharist
URL:https://churchmessiahpulaski.com/event/holy-eucharist-296/
END:VEVENT
BEGIN:VEVENT
DTSTART;TZID=UTC:20250713T100000
DTEND;TZID=UTC:20250713T120000
DTSTAMP:20260423T011926
CREATED:20250701T165945Z
LAST-MODIFIED:20250701T165945Z
UID:3674-1752400800-1752408000@churchmessiahpulaski.com
SUMMARY:Holy Eucharist
DESCRIPTION:Holy Eucharist
URL:https://churchmessiahpulaski.com/event/holy-eucharist-294/
END:VEVENT
BEGIN:VEVENT
DTSTART;TZID=UTC:20250714T070000
DTEND;TZID=UTC:20250714T073000
DTSTAMP:20260423T011926
CREATED:20250701T170104Z
LAST-MODIFIED:20250701T170104Z
UID:3678-1752476400-1752478200@churchmessiahpulaski.com
SUMMARY:Morning Prayer
DESCRIPTION:Morning Prayer
URL:https://churchmessiahpulaski.com/event/morning-prayer-276/
END:VEVENT
BEGIN:VEVENT
DTSTART;TZID=UTC:20250714T163000
DTEND;TZID=UTC:20250714T183000
DTSTAMP:20260423T011926
CREATED:20250701T170330Z
LAST-MODIFIED:20250701T170330Z
UID:3684-1752510600-1752517800@churchmessiahpulaski.com
SUMMARY:Vestry Meeting
DESCRIPTION:Vestry Meeting
URL:https://churchmessiahpulaski.com/event/vestry-meeting-33/
END:VEVENT
BEGIN:VEVENT
DTSTART;TZID=UTC:20250716T173000
DTEND;TZID=UTC:20250716T184500
DTSTAMP:20260423T011926
CREATED:20250701T170201Z
LAST-MODIFIED:20250701T170201Z
UID:3680-1752687000-1752691500@churchmessiahpulaski.com
SUMMARY:Christian Education Class
DESCRIPTION:Christian Education Class
URL:https://churchmessiahpulaski.com/event/christian-education-class/
END:VEVENT
BEGIN:VEVENT
DTSTART;TZID=UTC:20250716T173000
DTEND;TZID=UTC:20250716T184500
DTSTAMP:20260423T011926
CREATED:20250701T170250Z
LAST-MODIFIED:20250701T170250Z
UID:3682-1752687000-1752691500@churchmessiahpulaski.com
SUMMARY:Holy Eucharist
DESCRIPTION:Holy Eucharist
URL:https://churchmessiahpulaski.com/event/holy-eucharist-295/
END:VEVENT
BEGIN:VEVENT
DTSTART;TZID=UTC:20250831T100000
DTEND;TZID=UTC:20250831T123000
DTSTAMP:20260423T011926
CREATED:20250828T180413Z
LAST-MODIFIED:20250828T180413Z
UID:3693-1756634400-1756643400@churchmessiahpulaski.com
SUMMARY:Holy Eucharist
DESCRIPTION:Holy Eucharist
URL:https://churchmessiahpulaski.com/event/holy-eucharist-298/
END:VEVENT
BEGIN:VEVENT
DTSTART;VALUE=DATE:20250901
DTEND;VALUE=DATE:20250902
DTSTAMP:20260423T011926
CREATED:20250828T180513Z
LAST-MODIFIED:20250828T180513Z
UID:3695-1756684800-1756771199@churchmessiahpulaski.com
SUMMARY:Church Office Closed for Labor Day
DESCRIPTION:Church Office Closed for Labor Day
URL:https://churchmessiahpulaski.com/event/church-office-closed-for-labor-day-3/
END:VEVENT
BEGIN:VEVENT
DTSTART;TZID=UTC:20250902T070000
DTEND;TZID=UTC:20250902T193000
DTSTAMP:20260423T011926
CREATED:20250828T180550Z
LAST-MODIFIED:20250828T180550Z
UID:3697-1756796400-1756841400@churchmessiahpulaski.com
SUMMARY:Morning Prayer
DESCRIPTION:Morning Prayer
URL:https://churchmessiahpulaski.com/event/morning-prayer-277/
END:VEVENT
BEGIN:VEVENT
DTSTART;TZID=UTC:20250903T190000
DTEND;TZID=UTC:20250903T200000
DTSTAMP:20260423T011926
CREATED:20250828T180631Z
LAST-MODIFIED:20250828T180631Z
UID:3699-1756926000-1756929600@churchmessiahpulaski.com
SUMMARY:Holy Eucharist
DESCRIPTION:Holy Eucharist
URL:https://churchmessiahpulaski.com/event/holy-eucharist-299/
END:VEVENT
BEGIN:VEVENT
DTSTART;TZID=UTC:20250907T100000
DTEND;TZID=UTC:20250907T123000
DTSTAMP:20260423T011926
CREATED:20250828T180719Z
LAST-MODIFIED:20250828T180719Z
UID:3701-1757239200-1757248200@churchmessiahpulaski.com
SUMMARY:Holy Eucharist
DESCRIPTION:Holy Eucharist
URL:https://churchmessiahpulaski.com/event/holy-eucharist-300/
END:VEVENT
END:VCALENDAR