BEGIN:VCALENDAR
VERSION:2.0
PRODID:-//Church Of The Messiah, Episcopal - ECPv6.15.20//NONSGML v1.0//EN
CALSCALE:GREGORIAN
METHOD:PUBLISH
X-WR-CALNAME:Church Of The Messiah, Episcopal
X-ORIGINAL-URL:https://churchmessiahpulaski.com
X-WR-CALDESC:Events for Church Of The Messiah, Episcopal
REFRESH-INTERVAL;VALUE=DURATION:PT1H
X-Robots-Tag:noindex
X-PUBLISHED-TTL:PT1H
BEGIN:VTIMEZONE
TZID:UTC
BEGIN:STANDARD
TZOFFSETFROM:+0000
TZOFFSETTO:+0000
TZNAME:UTC
DTSTART:20200101T000000
END:STANDARD
END:VTIMEZONE
BEGIN:VEVENT
DTSTART;TZID=UTC:20210919T100000
DTEND;TZID=UTC:20210919T120000
DTSTAMP:20260424T195709
CREATED:20210826T154239Z
LAST-MODIFIED:20210826T154239Z
UID:2303-1632045600-1632052800@churchmessiahpulaski.com
SUMMARY:Holy Eucharist
DESCRIPTION:Holy Eucharist
URL:https://churchmessiahpulaski.com/event/holy-eucharist-132/
END:VEVENT
BEGIN:VEVENT
DTSTART;TZID=UTC:20210918T080000
DTEND;TZID=UTC:20210918T110000
DTSTAMP:20260424T195709
CREATED:20210826T154158Z
LAST-MODIFIED:20210826T154158Z
UID:2301-1631952000-1631962800@churchmessiahpulaski.com
SUMMARY:RFD Distribution of Food Boxes\, AG Park\, 2014 Elkton Hwy
DESCRIPTION:RFD Distribution of Food Boxes\, AG Park\, 2014 Elkton Hwy
URL:https://churchmessiahpulaski.com/event/rfd-distribution-of-food-boxes-ag-park-2014-elkton-hwy/
END:VEVENT
BEGIN:VEVENT
DTSTART;TZID=UTC:20210916T173000
DTEND;TZID=UTC:20210916T193000
DTSTAMP:20260424T195709
CREATED:20210826T153841Z
LAST-MODIFIED:20210826T153841Z
UID:2299-1631813400-1631820600@churchmessiahpulaski.com
SUMMARY:RFD Packing Food Boxes. Sharp Annex\, North Second Street
DESCRIPTION:RFD Packing Food Boxes\, Sharp Annex\, North Second Street
URL:https://churchmessiahpulaski.com/event/rfd-packing-food-boxes-sharp-annex-north-second-street-3/
END:VEVENT
BEGIN:VEVENT
DTSTART;TZID=UTC:20210915T190000
DTEND;TZID=UTC:20210915T200000
DTSTAMP:20260424T195709
CREATED:20210826T153711Z
LAST-MODIFIED:20210826T153711Z
UID:2297-1631732400-1631736000@churchmessiahpulaski.com
SUMMARY:Holy Communion
DESCRIPTION:Holy Communion
URL:https://churchmessiahpulaski.com/event/holy-communion-113/
END:VEVENT
BEGIN:VEVENT
DTSTART;TZID=UTC:20210913T183000
DTEND;TZID=UTC:20210913T200000
DTSTAMP:20260424T195709
CREATED:20210902T213422Z
LAST-MODIFIED:20210902T213422Z
UID:2309-1631557800-1631563200@churchmessiahpulaski.com
SUMMARY:Vestry Meeting
DESCRIPTION:Vestry Meeting
URL:https://churchmessiahpulaski.com/event/vestry-meeting-15/
END:VEVENT
BEGIN:VEVENT
DTSTART;TZID=UTC:20210913T070000
DTEND;TZID=UTC:20210913T080000
DTSTAMP:20260424T195709
CREATED:20210826T153612Z
LAST-MODIFIED:20210826T153612Z
UID:2295-1631516400-1631520000@churchmessiahpulaski.com
SUMMARY:Morning Prayer
DESCRIPTION:Morning Prayer
URL:https://churchmessiahpulaski.com/event/morning-prayer-139/
END:VEVENT
BEGIN:VEVENT
DTSTART;TZID=UTC:20210912T100000
DTEND;TZID=UTC:20210912T120000
DTSTAMP:20260424T195709
CREATED:20210826T153531Z
LAST-MODIFIED:20210826T153531Z
UID:2293-1631440800-1631448000@churchmessiahpulaski.com
SUMMARY:Holy Eucharist
DESCRIPTION:Holy Eucharist
URL:https://churchmessiahpulaski.com/event/holy-eucharist-131/
END:VEVENT
BEGIN:VEVENT
DTSTART;TZID=UTC:20210908T190000
DTEND;TZID=UTC:20210908T200000
DTSTAMP:20260424T195709
CREATED:20210826T153408Z
LAST-MODIFIED:20210826T153408Z
UID:2291-1631127600-1631131200@churchmessiahpulaski.com
SUMMARY:Holy Communion
DESCRIPTION:Holy Communion
URL:https://churchmessiahpulaski.com/event/holy-communion-112/
END:VEVENT
BEGIN:VEVENT
DTSTART;TZID=UTC:20210906T070000
DTEND;TZID=UTC:20210906T080000
DTSTAMP:20260424T195709
CREATED:20210826T152847Z
LAST-MODIFIED:20210826T152847Z
UID:2287-1630911600-1630915200@churchmessiahpulaski.com
SUMMARY:Morning Prayer
DESCRIPTION:Morning Prayer
URL:https://churchmessiahpulaski.com/event/morning-prayer-138/
END:VEVENT
BEGIN:VEVENT
DTSTART;VALUE=DATE:20210906
DTEND;VALUE=DATE:20210907
DTSTAMP:20260424T195709
CREATED:20210826T153005Z
LAST-MODIFIED:20210826T153005Z
UID:2289-1630886400-1630972799@churchmessiahpulaski.com
SUMMARY:Church Office Closed for Labor Day
DESCRIPTION:Church Office Closed for Labor Day
URL:https://churchmessiahpulaski.com/event/church-office-closed-for-labor-day-2/
END:VEVENT
BEGIN:VEVENT
DTSTART;TZID=UTC:20210905T100000
DTEND;TZID=UTC:20210905T113000
DTSTAMP:20260424T195709
CREATED:20210826T152319Z
LAST-MODIFIED:20210826T152319Z
UID:2285-1630836000-1630841400@churchmessiahpulaski.com
SUMMARY:Holy Eucharist
DESCRIPTION:Holy Eusharist
URL:https://churchmessiahpulaski.com/event/holy-eucharist-130/
END:VEVENT
BEGIN:VEVENT
DTSTART;TZID=UTC:20210901T190000
DTEND;TZID=UTC:20210901T200000
DTSTAMP:20260424T195709
CREATED:20210727T175617Z
LAST-MODIFIED:20210727T175617Z
UID:2277-1630522800-1630526400@churchmessiahpulaski.com
SUMMARY:Holy Communion
DESCRIPTION:Holy Communion
URL:https://churchmessiahpulaski.com/event/holy-communion-111/
END:VEVENT
BEGIN:VEVENT
DTSTART;TZID=UTC:20210830T070000
DTEND;TZID=UTC:20210830T080000
DTSTAMP:20260424T195709
CREATED:20210727T175533Z
LAST-MODIFIED:20210727T175533Z
UID:2275-1630306800-1630310400@churchmessiahpulaski.com
SUMMARY:Morning Prayer
DESCRIPTION:Morning Prayer
URL:https://churchmessiahpulaski.com/event/morning-prayer-137/
END:VEVENT
BEGIN:VEVENT
DTSTART;TZID=UTC:20210829T100000
DTEND;TZID=UTC:20210829T113000
DTSTAMP:20260424T195709
CREATED:20210727T175434Z
LAST-MODIFIED:20210727T175434Z
UID:2272-1630231200-1630236600@churchmessiahpulaski.com
SUMMARY:Holy Eucharist
DESCRIPTION:Holy Eucharist
URL:https://churchmessiahpulaski.com/event/holy-eucharist-129/
END:VEVENT
BEGIN:VEVENT
DTSTART;TZID=UTC:20210825T190000
DTEND;TZID=UTC:20210825T200000
DTSTAMP:20260424T195709
CREATED:20210727T175325Z
LAST-MODIFIED:20210727T175325Z
UID:2270-1629918000-1629921600@churchmessiahpulaski.com
SUMMARY:Holy Communion
DESCRIPTION:Holy Communion
URL:https://churchmessiahpulaski.com/event/holy-communion-110/
END:VEVENT
BEGIN:VEVENT
DTSTART;TZID=UTC:20210823T070000
DTEND;TZID=UTC:20210823T080000
DTSTAMP:20260424T195709
CREATED:20210727T175240Z
LAST-MODIFIED:20210727T175240Z
UID:2268-1629702000-1629705600@churchmessiahpulaski.com
SUMMARY:Morning Prayer
DESCRIPTION:Morning Prayer
URL:https://churchmessiahpulaski.com/event/morning-prayer-136/
END:VEVENT
BEGIN:VEVENT
DTSTART;TZID=UTC:20210822T100000
DTEND;TZID=UTC:20210822T113000
DTSTAMP:20260424T195709
CREATED:20210727T175152Z
LAST-MODIFIED:20210727T175152Z
UID:2266-1629626400-1629631800@churchmessiahpulaski.com
SUMMARY:Holy Eucharist
DESCRIPTION:Holy Eucharist
URL:https://churchmessiahpulaski.com/event/holy-eucharist-128/
END:VEVENT
BEGIN:VEVENT
DTSTART;TZID=UTC:20210821T090000
DTEND;TZID=UTC:20210821T110000
DTSTAMP:20260424T195709
CREATED:20210727T180126Z
LAST-MODIFIED:20210727T180126Z
UID:2283-1629536400-1629543600@churchmessiahpulaski.com
SUMMARY:RFD Distribution\, AG Park\, 2014 Elkton Highway
DESCRIPTION:RFD Distribution\, AG Park\, 2014 Elkton Highway
URL:https://churchmessiahpulaski.com/event/rfd-distribution-ag-park-2014-elkton-highway/
END:VEVENT
BEGIN:VEVENT
DTSTART;TZID=UTC:20210819T173000
DTEND;TZID=UTC:20210819T193000
DTSTAMP:20260424T195709
CREATED:20210727T175943Z
LAST-MODIFIED:20210727T175943Z
UID:2281-1629394200-1629401400@churchmessiahpulaski.com
SUMMARY:RFD Packing Food Boxes\, Sharp Annex\, North Second Street
DESCRIPTION:RFD Packing Food Boxes\, Sharp Annex\, North Second Street
URL:https://churchmessiahpulaski.com/event/rfd-packing-food-boxes-sharp-annex-north-second-street-2/
END:VEVENT
BEGIN:VEVENT
DTSTART;TZID=UTC:20210818T190000
DTEND;TZID=UTC:20210818T200000
DTSTAMP:20260424T195709
CREATED:20210727T175039Z
LAST-MODIFIED:20210727T175039Z
UID:2264-1629313200-1629316800@churchmessiahpulaski.com
SUMMARY:Holy Communion
DESCRIPTION:Holy Communion
URL:https://churchmessiahpulaski.com/event/holy-communion-109/
END:VEVENT
BEGIN:VEVENT
DTSTART;TZID=UTC:20210816T070000
DTEND;TZID=UTC:20210816T080000
DTSTAMP:20260424T195709
CREATED:20210727T174914Z
LAST-MODIFIED:20210727T174914Z
UID:2262-1629097200-1629100800@churchmessiahpulaski.com
SUMMARY:Morning Prayer
DESCRIPTION:Morning Prayer
URL:https://churchmessiahpulaski.com/event/morning-prayer-135/
END:VEVENT
BEGIN:VEVENT
DTSTART;TZID=UTC:20210815T100000
DTEND;TZID=UTC:20210815T113000
DTSTAMP:20260424T195709
CREATED:20210727T174717Z
LAST-MODIFIED:20210727T174717Z
UID:2260-1629021600-1629027000@churchmessiahpulaski.com
SUMMARY:Holy Eucharist
DESCRIPTION:Holy Eucharist
URL:https://churchmessiahpulaski.com/event/holy-eucharist-127/
END:VEVENT
BEGIN:VEVENT
DTSTART;TZID=UTC:20210811T190000
DTEND;TZID=UTC:20210811T200000
DTSTAMP:20260424T195709
CREATED:20210727T174603Z
LAST-MODIFIED:20210727T174603Z
UID:2258-1628708400-1628712000@churchmessiahpulaski.com
SUMMARY:Holy Communion
DESCRIPTION:Holy Communion
URL:https://churchmessiahpulaski.com/event/holy-communion-108/
END:VEVENT
BEGIN:VEVENT
DTSTART;TZID=UTC:20210809T183000
DTEND;TZID=UTC:20210809T200000
DTSTAMP:20260424T195709
CREATED:20210727T175655Z
LAST-MODIFIED:20210727T175655Z
UID:2279-1628533800-1628539200@churchmessiahpulaski.com
SUMMARY:Vestry Meeting
DESCRIPTION:Vestry Meeting
URL:https://churchmessiahpulaski.com/event/vestry-meeting-14/
END:VEVENT
BEGIN:VEVENT
DTSTART;TZID=UTC:20210809T070000
DTEND;TZID=UTC:20210809T080000
DTSTAMP:20260424T195709
CREATED:20210727T174452Z
LAST-MODIFIED:20210727T174452Z
UID:2256-1628492400-1628496000@churchmessiahpulaski.com
SUMMARY:Morning Prayer
DESCRIPTION:Morning Prayer
URL:https://churchmessiahpulaski.com/event/morning-prayer-134/
END:VEVENT
BEGIN:VEVENT
DTSTART;TZID=UTC:20210808T100000
DTEND;TZID=UTC:20210808T113000
DTSTAMP:20260424T195709
CREATED:20210727T174353Z
LAST-MODIFIED:20210727T174353Z
UID:2254-1628416800-1628422200@churchmessiahpulaski.com
SUMMARY:Holy Eucharist
DESCRIPTION:Holy Eucharist
URL:https://churchmessiahpulaski.com/event/holy-eucharist-108-2/
END:VEVENT
BEGIN:VEVENT
DTSTART;TZID=UTC:20210804T190000
DTEND;TZID=UTC:20210804T200000
DTSTAMP:20260424T195709
CREATED:20210727T171430Z
LAST-MODIFIED:20210727T171430Z
UID:2251-1628103600-1628107200@churchmessiahpulaski.com
SUMMARY:Holy Communion
DESCRIPTION:Holy Communion
URL:https://churchmessiahpulaski.com/event/holy-communion-107/
END:VEVENT
BEGIN:VEVENT
DTSTART;TZID=UTC:20210802T070000
DTEND;TZID=UTC:20210802T080000
DTSTAMP:20260424T195709
CREATED:20210727T171333Z
LAST-MODIFIED:20210727T171333Z
UID:2249-1627887600-1627891200@churchmessiahpulaski.com
SUMMARY:Morning Prayer
DESCRIPTION:Morning Prayer
URL:https://churchmessiahpulaski.com/event/morning-prayer-133/
END:VEVENT
BEGIN:VEVENT
DTSTART;TZID=UTC:20210801T100000
DTEND;TZID=UTC:20210801T113000
DTSTAMP:20260424T195709
CREATED:20210701T165719Z
LAST-MODIFIED:20210701T165719Z
UID:2235-1627812000-1627817400@churchmessiahpulaski.com
SUMMARY:Holy Eucharist
DESCRIPTION:Holy Eucharist
URL:https://churchmessiahpulaski.com/event/holy-eucharist-126/
END:VEVENT
BEGIN:VEVENT
DTSTART;TZID=UTC:20210728T190000
DTEND;TZID=UTC:20210728T200000
DTSTAMP:20260424T195709
CREATED:20210701T165636Z
LAST-MODIFIED:20210701T165636Z
UID:2233-1627498800-1627502400@churchmessiahpulaski.com
SUMMARY:Holy Communion
DESCRIPTION:Holy Communion
URL:https://churchmessiahpulaski.com/event/holy-communion-106/
END:VEVENT
END:VCALENDAR