BEGIN:VCALENDAR
VERSION:2.0
PRODID:-//Church Of The Messiah, Episcopal - ECPv6.15.20//NONSGML v1.0//EN
CALSCALE:GREGORIAN
METHOD:PUBLISH
X-WR-CALNAME:Church Of The Messiah, Episcopal
X-ORIGINAL-URL:https://churchmessiahpulaski.com
X-WR-CALDESC:Events for Church Of The Messiah, Episcopal
REFRESH-INTERVAL;VALUE=DURATION:PT1H
X-Robots-Tag:noindex
X-PUBLISHED-TTL:PT1H
BEGIN:VTIMEZONE
TZID:UTC
BEGIN:STANDARD
TZOFFSETFROM:+0000
TZOFFSETTO:+0000
TZNAME:UTC
DTSTART:20200101T000000
END:STANDARD
END:VTIMEZONE
BEGIN:VEVENT
DTSTART;TZID=UTC:20211101T070000
DTEND;TZID=UTC:20211101T080000
DTSTAMP:20260424T171303
CREATED:20211028T192622Z
LAST-MODIFIED:20211028T192622Z
UID:2355-1635750000-1635753600@churchmessiahpulaski.com
SUMMARY:Morning Prayer
DESCRIPTION:Morning Prayer
URL:https://churchmessiahpulaski.com/event/morning-prayer-145/
END:VEVENT
BEGIN:VEVENT
DTSTART;TZID=UTC:20211031T100000
DTEND;TZID=UTC:20211031T120000
DTSTAMP:20260424T171303
CREATED:20210930T180112Z
LAST-MODIFIED:20210930T180112Z
UID:2347-1635674400-1635681600@churchmessiahpulaski.com
SUMMARY:Holy Eucharist
DESCRIPTION:Holy Eucharist
URL:https://churchmessiahpulaski.com/event/holy-eucharist-136/
END:VEVENT
BEGIN:VEVENT
DTSTART;TZID=UTC:20211027T190000
DTEND;TZID=UTC:20211027T200000
DTSTAMP:20260424T171303
CREATED:20210930T180012Z
LAST-MODIFIED:20210930T180012Z
UID:2345-1635361200-1635364800@churchmessiahpulaski.com
SUMMARY:Holy Communion
DESCRIPTION:Holy Communion
URL:https://churchmessiahpulaski.com/event/holy-communion-116/
END:VEVENT
BEGIN:VEVENT
DTSTART;TZID=UTC:20211025T070000
DTEND;TZID=UTC:20211025T080000
DTSTAMP:20260424T171303
CREATED:20210930T175924Z
LAST-MODIFIED:20210930T175924Z
UID:2343-1635145200-1635148800@churchmessiahpulaski.com
SUMMARY:Morning Prayer
DESCRIPTION:Morning Prayer
URL:https://churchmessiahpulaski.com/event/morning-prayer-144/
END:VEVENT
BEGIN:VEVENT
DTSTART;TZID=UTC:20211024T100000
DTEND;TZID=UTC:20211024T120000
DTSTAMP:20260424T171303
CREATED:20210930T175840Z
LAST-MODIFIED:20210930T175840Z
UID:2341-1635069600-1635076800@churchmessiahpulaski.com
SUMMARY:Holy Eucharist\, Bishop John C. Bauerschmidt's Annual Visit
DESCRIPTION:Holy Eucharist\, Bishop John C. Bauerschmidt’s Annual Visit
URL:https://churchmessiahpulaski.com/event/holy-eucharist-bishop-john-c-bauerschmidts-annual-visit/
END:VEVENT
BEGIN:VEVENT
DTSTART;TZID=UTC:20211023T080000
DTEND;TZID=UTC:20211023T110000
DTSTAMP:20260424T171303
CREATED:20210930T175646Z
LAST-MODIFIED:20210930T175646Z
UID:2339-1634976000-1634986800@churchmessiahpulaski.com
SUMMARY:RFD Distribution\, AG Park\, 2014 Elkton Highway
DESCRIPTION:RFD Distribution\, AG Park\, 2014 Elkton Highway
URL:https://churchmessiahpulaski.com/event/rfd-distribution-ag-park-2014-elkton-highway-2/
END:VEVENT
BEGIN:VEVENT
DTSTART;TZID=UTC:20211021T173000
DTEND;TZID=UTC:20211021T193000
DTSTAMP:20260424T171303
CREATED:20210930T175451Z
LAST-MODIFIED:20210930T175451Z
UID:2337-1634837400-1634844600@churchmessiahpulaski.com
SUMMARY:RFD Packing Food Boxes\, Sharp Annex\, North Second Street
DESCRIPTION:RFD Packing Food Boxes\, Sharp Annex\, North Second Street
URL:https://churchmessiahpulaski.com/event/rfd-packing-food-boxes-sharp-annex-north-second-street-4/
END:VEVENT
BEGIN:VEVENT
DTSTART;TZID=UTC:20211020T190000
DTEND;TZID=UTC:20211020T200000
DTSTAMP:20260424T171303
CREATED:20210930T175330Z
LAST-MODIFIED:20210930T175330Z
UID:2335-1634756400-1634760000@churchmessiahpulaski.com
SUMMARY:Holy Communion Service Canceled
DESCRIPTION:Holy Communion Service Canceled
URL:https://churchmessiahpulaski.com/event/holy-communion-service-canceled/
END:VEVENT
BEGIN:VEVENT
DTSTART;TZID=UTC:20211018T070000
DTEND;TZID=UTC:20211018T080000
DTSTAMP:20260424T171303
CREATED:20210930T175031Z
LAST-MODIFIED:20210930T175031Z
UID:2330-1634540400-1634544000@churchmessiahpulaski.com
SUMMARY:Morning Prayer
DESCRIPTION:Morning Prayer
URL:https://churchmessiahpulaski.com/event/morning-prayer-143/
END:VEVENT
BEGIN:VEVENT
DTSTART;TZID=UTC:20211017T100000
DTEND;TZID=UTC:20211017T120000
DTSTAMP:20260424T171303
CREATED:20210930T174854Z
LAST-MODIFIED:20210930T174854Z
UID:2326-1634464800-1634472000@churchmessiahpulaski.com
SUMMARY:Holy Eucharist
DESCRIPTION:Holy Eucharist
URL:https://churchmessiahpulaski.com/event/holy-eucharist-135/
END:VEVENT
BEGIN:VEVENT
DTSTART;TZID=UTC:20211013T190000
DTEND;TZID=UTC:20211013T200000
DTSTAMP:20260424T171303
CREATED:20210930T174636Z
LAST-MODIFIED:20210930T175233Z
UID:2324-1634151600-1634155200@churchmessiahpulaski.com
SUMMARY:Holy Communion Service Canceled
DESCRIPTION:Holy Communion Service Canceled
URL:https://churchmessiahpulaski.com/event/holy-communion-service-canceled-today/
END:VEVENT
BEGIN:VEVENT
DTSTART;VALUE=DATE:20211012
DTEND;VALUE=DATE:20211013
DTSTAMP:20260424T171303
CREATED:20210930T174514Z
LAST-MODIFIED:20210930T174514Z
UID:2322-1633996800-1634083199@churchmessiahpulaski.com
SUMMARY:Office Closed for Columbus Day
DESCRIPTION:Office Closed for Columbus Day
URL:https://churchmessiahpulaski.com/event/office-closed-for-columbus-day/
END:VEVENT
BEGIN:VEVENT
DTSTART;TZID=UTC:20211011T183000
DTEND;TZID=UTC:20211011T200000
DTSTAMP:20260424T171303
CREATED:20210930T174941Z
LAST-MODIFIED:20210930T174941Z
UID:2328-1633977000-1633982400@churchmessiahpulaski.com
SUMMARY:Vestry Meeting
DESCRIPTION:Vestry Meeting
URL:https://churchmessiahpulaski.com/event/vestry-meeting-16/
END:VEVENT
BEGIN:VEVENT
DTSTART;TZID=UTC:20211011T070000
DTEND;TZID=UTC:20211011T080000
DTSTAMP:20260424T171303
CREATED:20210930T174127Z
LAST-MODIFIED:20210930T174127Z
UID:2320-1633935600-1633939200@churchmessiahpulaski.com
SUMMARY:Morning Prayer
DESCRIPTION:Morning Prayer
URL:https://churchmessiahpulaski.com/event/morning-prayer-142/
END:VEVENT
BEGIN:VEVENT
DTSTART;TZID=UTC:20211010T100000
DTEND;TZID=UTC:20211010T120000
DTSTAMP:20260424T171303
CREATED:20210930T174008Z
LAST-MODIFIED:20210930T174008Z
UID:2318-1633860000-1633867200@churchmessiahpulaski.com
SUMMARY:Holy Eucharist
DESCRIPTION:Holy Eucharist
URL:https://churchmessiahpulaski.com/event/holy-eucharist-134/
END:VEVENT
BEGIN:VEVENT
DTSTART;TZID=UTC:20211006T190000
DTEND;TZID=UTC:20211006T200000
DTSTAMP:20260424T171303
CREATED:20210930T173917Z
LAST-MODIFIED:20210930T173917Z
UID:2316-1633546800-1633550400@churchmessiahpulaski.com
SUMMARY:Holy Communion
DESCRIPTION:Holy Communion
URL:https://churchmessiahpulaski.com/event/holy-communion-115/
END:VEVENT
BEGIN:VEVENT
DTSTART;TZID=UTC:20211004T070000
DTEND;TZID=UTC:20211004T080000
DTSTAMP:20260424T171303
CREATED:20210930T173424Z
LAST-MODIFIED:20210930T173424Z
UID:2314-1633330800-1633334400@churchmessiahpulaski.com
SUMMARY:Morning Prayer
DESCRIPTION:Morning Prayer
URL:https://churchmessiahpulaski.com/event/morning-prayer-141/
END:VEVENT
BEGIN:VEVENT
DTSTART;TZID=UTC:20211003T100000
DTEND;TZID=UTC:20211003T120000
DTSTAMP:20260424T171303
CREATED:20210930T173340Z
LAST-MODIFIED:20210930T173340Z
UID:2312-1633255200-1633262400@churchmessiahpulaski.com
SUMMARY:Holy Eucharist
DESCRIPTION:Holy Eucharist
URL:https://churchmessiahpulaski.com/event/holy-eucharist-133/
END:VEVENT
BEGIN:VEVENT
DTSTART;TZID=UTC:20210922T190000
DTEND;TZID=UTC:20210922T200000
DTSTAMP:20260424T171303
CREATED:20210826T154442Z
LAST-MODIFIED:20210826T154442Z
UID:2307-1632337200-1632340800@churchmessiahpulaski.com
SUMMARY:Holy Communion
DESCRIPTION:Holy Communion
URL:https://churchmessiahpulaski.com/event/holy-communion-114/
END:VEVENT
BEGIN:VEVENT
DTSTART;TZID=UTC:20210920T070000
DTEND;TZID=UTC:20210920T080000
DTSTAMP:20260424T171303
CREATED:20210826T154354Z
LAST-MODIFIED:20210826T154354Z
UID:2305-1632121200-1632124800@churchmessiahpulaski.com
SUMMARY:Morning Prayer
DESCRIPTION:Morning Prayer
URL:https://churchmessiahpulaski.com/event/morning-prayer-140/
END:VEVENT
BEGIN:VEVENT
DTSTART;TZID=UTC:20210919T100000
DTEND;TZID=UTC:20210919T120000
DTSTAMP:20260424T171303
CREATED:20210826T154239Z
LAST-MODIFIED:20210826T154239Z
UID:2303-1632045600-1632052800@churchmessiahpulaski.com
SUMMARY:Holy Eucharist
DESCRIPTION:Holy Eucharist
URL:https://churchmessiahpulaski.com/event/holy-eucharist-132/
END:VEVENT
BEGIN:VEVENT
DTSTART;TZID=UTC:20210918T080000
DTEND;TZID=UTC:20210918T110000
DTSTAMP:20260424T171303
CREATED:20210826T154158Z
LAST-MODIFIED:20210826T154158Z
UID:2301-1631952000-1631962800@churchmessiahpulaski.com
SUMMARY:RFD Distribution of Food Boxes\, AG Park\, 2014 Elkton Hwy
DESCRIPTION:RFD Distribution of Food Boxes\, AG Park\, 2014 Elkton Hwy
URL:https://churchmessiahpulaski.com/event/rfd-distribution-of-food-boxes-ag-park-2014-elkton-hwy/
END:VEVENT
BEGIN:VEVENT
DTSTART;TZID=UTC:20210916T173000
DTEND;TZID=UTC:20210916T193000
DTSTAMP:20260424T171303
CREATED:20210826T153841Z
LAST-MODIFIED:20210826T153841Z
UID:2299-1631813400-1631820600@churchmessiahpulaski.com
SUMMARY:RFD Packing Food Boxes. Sharp Annex\, North Second Street
DESCRIPTION:RFD Packing Food Boxes\, Sharp Annex\, North Second Street
URL:https://churchmessiahpulaski.com/event/rfd-packing-food-boxes-sharp-annex-north-second-street-3/
END:VEVENT
BEGIN:VEVENT
DTSTART;TZID=UTC:20210915T190000
DTEND;TZID=UTC:20210915T200000
DTSTAMP:20260424T171303
CREATED:20210826T153711Z
LAST-MODIFIED:20210826T153711Z
UID:2297-1631732400-1631736000@churchmessiahpulaski.com
SUMMARY:Holy Communion
DESCRIPTION:Holy Communion
URL:https://churchmessiahpulaski.com/event/holy-communion-113/
END:VEVENT
BEGIN:VEVENT
DTSTART;TZID=UTC:20210913T183000
DTEND;TZID=UTC:20210913T200000
DTSTAMP:20260424T171303
CREATED:20210902T213422Z
LAST-MODIFIED:20210902T213422Z
UID:2309-1631557800-1631563200@churchmessiahpulaski.com
SUMMARY:Vestry Meeting
DESCRIPTION:Vestry Meeting
URL:https://churchmessiahpulaski.com/event/vestry-meeting-15/
END:VEVENT
BEGIN:VEVENT
DTSTART;TZID=UTC:20210913T070000
DTEND;TZID=UTC:20210913T080000
DTSTAMP:20260424T171303
CREATED:20210826T153612Z
LAST-MODIFIED:20210826T153612Z
UID:2295-1631516400-1631520000@churchmessiahpulaski.com
SUMMARY:Morning Prayer
DESCRIPTION:Morning Prayer
URL:https://churchmessiahpulaski.com/event/morning-prayer-139/
END:VEVENT
BEGIN:VEVENT
DTSTART;TZID=UTC:20210912T100000
DTEND;TZID=UTC:20210912T120000
DTSTAMP:20260424T171303
CREATED:20210826T153531Z
LAST-MODIFIED:20210826T153531Z
UID:2293-1631440800-1631448000@churchmessiahpulaski.com
SUMMARY:Holy Eucharist
DESCRIPTION:Holy Eucharist
URL:https://churchmessiahpulaski.com/event/holy-eucharist-131/
END:VEVENT
BEGIN:VEVENT
DTSTART;TZID=UTC:20210908T190000
DTEND;TZID=UTC:20210908T200000
DTSTAMP:20260424T171303
CREATED:20210826T153408Z
LAST-MODIFIED:20210826T153408Z
UID:2291-1631127600-1631131200@churchmessiahpulaski.com
SUMMARY:Holy Communion
DESCRIPTION:Holy Communion
URL:https://churchmessiahpulaski.com/event/holy-communion-112/
END:VEVENT
BEGIN:VEVENT
DTSTART;TZID=UTC:20210906T070000
DTEND;TZID=UTC:20210906T080000
DTSTAMP:20260424T171303
CREATED:20210826T152847Z
LAST-MODIFIED:20210826T152847Z
UID:2287-1630911600-1630915200@churchmessiahpulaski.com
SUMMARY:Morning Prayer
DESCRIPTION:Morning Prayer
URL:https://churchmessiahpulaski.com/event/morning-prayer-138/
END:VEVENT
BEGIN:VEVENT
DTSTART;VALUE=DATE:20210906
DTEND;VALUE=DATE:20210907
DTSTAMP:20260424T171303
CREATED:20210826T153005Z
LAST-MODIFIED:20210826T153005Z
UID:2289-1630886400-1630972799@churchmessiahpulaski.com
SUMMARY:Church Office Closed for Labor Day
DESCRIPTION:Church Office Closed for Labor Day
URL:https://churchmessiahpulaski.com/event/church-office-closed-for-labor-day-2/
END:VEVENT
END:VCALENDAR