BEGIN:VCALENDAR
VERSION:2.0
PRODID:-//Church Of The Messiah, Episcopal - ECPv6.15.20//NONSGML v1.0//EN
CALSCALE:GREGORIAN
METHOD:PUBLISH
X-WR-CALNAME:Church Of The Messiah, Episcopal
X-ORIGINAL-URL:https://churchmessiahpulaski.com
X-WR-CALDESC:Events for Church Of The Messiah, Episcopal
REFRESH-INTERVAL;VALUE=DURATION:PT1H
X-Robots-Tag:noindex
X-PUBLISHED-TTL:PT1H
BEGIN:VTIMEZONE
TZID:UTC
BEGIN:STANDARD
TZOFFSETFROM:+0000
TZOFFSETTO:+0000
TZNAME:UTC
DTSTART:20230101T000000
END:STANDARD
END:VTIMEZONE
BEGIN:VEVENT
DTSTART;TZID=UTC:20240204T100000
DTEND;TZID=UTC:20240204T120000
DTSTAMP:20260422T121030
CREATED:20240104T164008Z
LAST-MODIFIED:20240104T164008Z
UID:3373-1707040800-1707048000@churchmessiahpulaski.com
SUMMARY:Holy Eucharist
DESCRIPTION:Holy Eucharist
URL:https://churchmessiahpulaski.com/event/holy-eucharist-250/
END:VEVENT
BEGIN:VEVENT
DTSTART;TZID=UTC:20240204T113000
DTEND;TZID=UTC:20240204T123000
DTSTAMP:20260422T121030
CREATED:20240201T165632Z
LAST-MODIFIED:20240201T165632Z
UID:3411-1707046200-1707049800@churchmessiahpulaski.com
SUMMARY:Messiah Annual Meeting Following Worship
DESCRIPTION:Messiah Annual Meeting Following Worship
URL:https://churchmessiahpulaski.com/event/messiah-annual-meeting-following-worship/
END:VEVENT
BEGIN:VEVENT
DTSTART;TZID=UTC:20240205T070000
DTEND;TZID=UTC:20240205T073000
DTSTAMP:20260422T121030
CREATED:20240104T164049Z
LAST-MODIFIED:20240104T164049Z
UID:3375-1707116400-1707118200@churchmessiahpulaski.com
SUMMARY:Morning Prayer
DESCRIPTION:Morning Prayer
URL:https://churchmessiahpulaski.com/event/morning-prayer-251/
END:VEVENT
BEGIN:VEVENT
DTSTART;VALUE=DATE:20240207
DTEND;VALUE=DATE:20240208
DTSTAMP:20260422T121030
CREATED:20240201T165955Z
LAST-MODIFIED:20240201T165955Z
UID:3415-1707264000-1707350399@churchmessiahpulaski.com
SUMMARY:Wednesday Evening Service Cancelled This Week
DESCRIPTION:Wednesday Evening Service Cancelled This Week
URL:https://churchmessiahpulaski.com/event/wednesday-evening-service-cancelled-this-week-3/
END:VEVENT
BEGIN:VEVENT
DTSTART;TZID=UTC:20240211T100000
DTEND;TZID=UTC:20240211T120000
DTSTAMP:20260422T121030
CREATED:20240104T164234Z
LAST-MODIFIED:20240104T164234Z
UID:3379-1707645600-1707652800@churchmessiahpulaski.com
SUMMARY:Holy Eucharist
DESCRIPTION:Holy Eucharist
URL:https://churchmessiahpulaski.com/event/holy-eucharist-252/
END:VEVENT
BEGIN:VEVENT
DTSTART;TZID=UTC:20240212T070000
DTEND;TZID=UTC:20240212T073000
DTSTAMP:20260422T121030
CREATED:20240104T164320Z
LAST-MODIFIED:20240104T164320Z
UID:3381-1707721200-1707723000@churchmessiahpulaski.com
SUMMARY:Morning Prayer
DESCRIPTION:Morning Prayer
URL:https://churchmessiahpulaski.com/event/morning-prayer-252/
END:VEVENT
BEGIN:VEVENT
DTSTART;TZID=UTC:20240212T163000
DTEND;TZID=UTC:20240212T183000
DTSTAMP:20260422T121030
CREATED:20240104T164413Z
LAST-MODIFIED:20240104T164413Z
UID:3383-1707755400-1707762600@churchmessiahpulaski.com
SUMMARY:Vestry Meeting
DESCRIPTION:Vestry Meeting
URL:https://churchmessiahpulaski.com/event/vestry-meeting-30/
END:VEVENT
BEGIN:VEVENT
DTSTART;TZID=UTC:20240214T120000
DTEND;TZID=UTC:20240214T130000
DTSTAMP:20260422T121030
CREATED:20240201T163814Z
LAST-MODIFIED:20240201T163814Z
UID:3388-1707912000-1707915600@churchmessiahpulaski.com
SUMMARY:Ash Wednesday Service at Noon
DESCRIPTION:Ash Wednesday Service at Noon
URL:https://churchmessiahpulaski.com/event/ash-wednesday-service-at-noon/
END:VEVENT
BEGIN:VEVENT
DTSTART;TZID=UTC:20240214T190000
DTEND;TZID=UTC:20240214T200000
DTSTAMP:20260422T121030
CREATED:20240104T164459Z
LAST-MODIFIED:20240104T164459Z
UID:3385-1707937200-1707940800@churchmessiahpulaski.com
SUMMARY:Ash Wednesday Service
DESCRIPTION:Ash Wednesday Service
URL:https://churchmessiahpulaski.com/event/ash-wednesday-service-5/
END:VEVENT
BEGIN:VEVENT
DTSTART;TZID=UTC:20240215T173000
DTEND;TZID=UTC:20240215T193000
DTSTAMP:20260422T121030
CREATED:20240201T170143Z
LAST-MODIFIED:20240201T170143Z
UID:3417-1708018200-1708025400@churchmessiahpulaski.com
SUMMARY:Community Rural Food Delivery Packing Food Boxes 216 North 2nd Street
DESCRIPTION:Community Rural Food Delivery Packing Food Boxes 216 North 2nd Street
URL:https://churchmessiahpulaski.com/event/community-rural-food-delivery-packing-food-boxes-216-north-2nd-street/
END:VEVENT
BEGIN:VEVENT
DTSTART;TZID=UTC:20240217T080000
DTEND;TZID=UTC:20240217T110000
DTSTAMP:20260422T121030
CREATED:20240201T170301Z
LAST-MODIFIED:20240201T170301Z
UID:3419-1708156800-1708167600@churchmessiahpulaski.com
SUMMARY:Community RFD Distribution of Food Boxes 2030 Elkton Highway
DESCRIPTION:Community RFD Distribution of Food Boxes 2030 Elkton Highway
URL:https://churchmessiahpulaski.com/event/community-rfd-distribution-of-food-boxes-2030-elkton-highway/
END:VEVENT
BEGIN:VEVENT
DTSTART;TZID=UTC:20240218T100000
DTEND;TZID=UTC:20240218T120000
DTSTAMP:20260422T121030
CREATED:20240201T163907Z
LAST-MODIFIED:20240201T163907Z
UID:3390-1708250400-1708257600@churchmessiahpulaski.com
SUMMARY:Holy Eucahrist
DESCRIPTION:Holy Eucharist
URL:https://churchmessiahpulaski.com/event/holy-eucahrist/
END:VEVENT
BEGIN:VEVENT
DTSTART;TZID=UTC:20240219T070000
DTEND;TZID=UTC:20240219T080000
DTSTAMP:20260422T121030
CREATED:20240201T163948Z
LAST-MODIFIED:20240201T163948Z
UID:3392-1708326000-1708329600@churchmessiahpulaski.com
SUMMARY:Morning Prayer
DESCRIPTION:Morning Prayer
URL:https://churchmessiahpulaski.com/event/morning-prayer-253/
END:VEVENT
BEGIN:VEVENT
DTSTART;TZID=UTC:20240221T180000
DTEND;TZID=UTC:20240221T200000
DTSTAMP:20260422T121030
CREATED:20240201T165253Z
LAST-MODIFIED:20240201T165253Z
UID:3405-1708538400-1708545600@churchmessiahpulaski.com
SUMMARY:Lenten Study and Holy Eucharist
DESCRIPTION:Lenten Study and Holy Eucharist
URL:https://churchmessiahpulaski.com/event/lenten-study-and-holy-eucharist/
END:VEVENT
BEGIN:VEVENT
DTSTART;TZID=UTC:20240225T100000
DTEND;TZID=UTC:20240225T120000
DTSTAMP:20260422T121030
CREATED:20240201T165440Z
LAST-MODIFIED:20240201T165440Z
UID:3409-1708855200-1708862400@churchmessiahpulaski.com
SUMMARY:Holy Eucharist
DESCRIPTION:Holy Eucharist
URL:https://churchmessiahpulaski.com/event/holy-eucharist-253/
END:VEVENT
BEGIN:VEVENT
DTSTART;TZID=UTC:20240226T070000
DTEND;TZID=UTC:20240226T080000
DTSTAMP:20260422T121030
CREATED:20240201T165726Z
LAST-MODIFIED:20240201T165726Z
UID:3413-1708930800-1708934400@churchmessiahpulaski.com
SUMMARY:Morning Prayer
DESCRIPTION:Morning Prayer
URL:https://churchmessiahpulaski.com/event/morning-prayer-254/
END:VEVENT
BEGIN:VEVENT
DTSTART;TZID=UTC:20240228T180000
DTEND;TZID=UTC:20240228T200000
DTSTAMP:20260422T121030
CREATED:20240201T165342Z
LAST-MODIFIED:20240201T165342Z
UID:3407-1709143200-1709150400@churchmessiahpulaski.com
SUMMARY:Lenten Study and Holy Eucharist
DESCRIPTION:Lenten Study and Holy Eucharist
URL:https://churchmessiahpulaski.com/event/lenten-study-and-holy-eucharist-2/
END:VEVENT
BEGIN:VEVENT
DTSTART;TZID=UTC:20240303T100000
DTEND;TZID=UTC:20240303T120000
DTSTAMP:20260422T121030
CREATED:20240307T212719Z
LAST-MODIFIED:20240307T212719Z
UID:3421-1709460000-1709467200@churchmessiahpulaski.com
SUMMARY:Holy Eucharist
DESCRIPTION:Holy Eucharist
URL:https://churchmessiahpulaski.com/event/holy-eucharist-251/
END:VEVENT
BEGIN:VEVENT
DTSTART;TZID=UTC:20240304T070000
DTEND;TZID=UTC:20240304T073000
DTSTAMP:20260422T121030
CREATED:20240307T212758Z
LAST-MODIFIED:20240307T212758Z
UID:3423-1709535600-1709537400@churchmessiahpulaski.com
SUMMARY:Morning Prayer
DESCRIPTION:Morning Prayer
URL:https://churchmessiahpulaski.com/event/morning-prayer-255/
END:VEVENT
BEGIN:VEVENT
DTSTART;TZID=UTC:20240306T173000
DTEND;TZID=UTC:20240306T200000
DTSTAMP:20260422T121030
CREATED:20240307T212914Z
LAST-MODIFIED:20240307T212914Z
UID:3425-1709746200-1709755200@churchmessiahpulaski.com
SUMMARY:Lenten Study with Holy Eucharist
DESCRIPTION:Lenten Study with Holy Eucharist
URL:https://churchmessiahpulaski.com/event/lenten-study-with-holy-eucharist/
END:VEVENT
BEGIN:VEVENT
DTSTART;TZID=UTC:20240310T100000
DTEND;TZID=UTC:20240310T120000
DTSTAMP:20260422T121030
CREATED:20240307T212951Z
LAST-MODIFIED:20240307T212951Z
UID:3427-1710064800-1710072000@churchmessiahpulaski.com
SUMMARY:Holy Eucharist
DESCRIPTION:Holy Eucharist
URL:https://churchmessiahpulaski.com/event/holy-eucharist-254/
END:VEVENT
BEGIN:VEVENT
DTSTART;TZID=UTC:20240311T070000
DTEND;TZID=UTC:20240311T073000
DTSTAMP:20260422T121030
CREATED:20240307T213030Z
LAST-MODIFIED:20240307T213030Z
UID:3429-1710140400-1710142200@churchmessiahpulaski.com
SUMMARY:Morning Prayer
DESCRIPTION:Morning Prayer
URL:https://churchmessiahpulaski.com/event/morning-prayer-256/
END:VEVENT
BEGIN:VEVENT
DTSTART;TZID=UTC:20240313T173000
DTEND;TZID=UTC:20240313T200000
DTSTAMP:20260422T121030
CREATED:20240307T213124Z
LAST-MODIFIED:20240307T213124Z
UID:3431-1710351000-1710360000@churchmessiahpulaski.com
SUMMARY:Lenten Study with Holy Eucharist
DESCRIPTION:Lenten Study with Holy Eucharist
URL:https://churchmessiahpulaski.com/event/lenten-study-with-holy-eucharist-2/
END:VEVENT
BEGIN:VEVENT
DTSTART;TZID=UTC:20240317T100000
DTEND;TZID=UTC:20240317T120000
DTSTAMP:20260422T121030
CREATED:20240307T213219Z
LAST-MODIFIED:20240307T213219Z
UID:3433-1710669600-1710676800@churchmessiahpulaski.com
SUMMARY:Holy Eucharist
DESCRIPTION:Holy Eucharist
URL:https://churchmessiahpulaski.com/event/holy-eucharist-255/
END:VEVENT
BEGIN:VEVENT
DTSTART;TZID=UTC:20240318T070000
DTEND;TZID=UTC:20240318T073000
DTSTAMP:20260422T121030
CREATED:20240307T213304Z
LAST-MODIFIED:20240307T213304Z
UID:3435-1710745200-1710747000@churchmessiahpulaski.com
SUMMARY:Morning Prayer
DESCRIPTION:Morning Prayer
URL:https://churchmessiahpulaski.com/event/morning-prayer-257/
END:VEVENT
BEGIN:VEVENT
DTSTART;TZID=UTC:20240320T173000
DTEND;TZID=UTC:20240320T200000
DTSTAMP:20260422T121030
CREATED:20240307T213402Z
LAST-MODIFIED:20240307T213402Z
UID:3437-1710955800-1710964800@churchmessiahpulaski.com
SUMMARY:Lenten Study with Holy Eucharist
DESCRIPTION:Lenten Study with Holy Eucharist
URL:https://churchmessiahpulaski.com/event/lenten-study-with-holy-eucharist-3/
END:VEVENT
BEGIN:VEVENT
DTSTART;TZID=UTC:20240321T130000
DTEND;TZID=UTC:20240321T160000
DTSTAMP:20260422T121030
CREATED:20240307T213527Z
LAST-MODIFIED:20240307T213527Z
UID:3439-1711026000-1711036800@churchmessiahpulaski.com
SUMMARY:Community Rural Food Delivery Setup for food packing
DESCRIPTION:Community Rural Food Delivery Setup for food packing
URL:https://churchmessiahpulaski.com/event/community-rural-food-delivery-setup-for-food-packing/
END:VEVENT
BEGIN:VEVENT
DTSTART;TZID=UTC:20240321T173000
DTEND;TZID=UTC:20240321T193000
DTSTAMP:20260422T121030
CREATED:20240307T213652Z
LAST-MODIFIED:20240307T213652Z
UID:3441-1711042200-1711049400@churchmessiahpulaski.com
SUMMARY:RFD Packing Food Boxes 216 North Second Street
DESCRIPTION:RFD Packing Food Boxes 216 North Second Street
URL:https://churchmessiahpulaski.com/event/rfd-packing-food-boxes-216-north-second-street/
END:VEVENT
BEGIN:VEVENT
DTSTART;TZID=UTC:20240323T080000
DTEND;TZID=UTC:20240323T110000
DTSTAMP:20260422T121030
CREATED:20240307T213814Z
LAST-MODIFIED:20240307T213814Z
UID:3443-1711180800-1711191600@churchmessiahpulaski.com
SUMMARY:Community RFD Distribution of Food Boxes 2030 Elkton Hwy
DESCRIPTION:Community RFD Distribution of Food Boxes 2030 Elkton Hwy
URL:https://churchmessiahpulaski.com/event/community-rfd-distribution-of-food-boxes-2030-elkton-hwy/
END:VEVENT
BEGIN:VEVENT
DTSTART;TZID=UTC:20240324T100000
DTEND;TZID=UTC:20240324T123000
DTSTAMP:20260422T121030
CREATED:20240307T214042Z
LAST-MODIFIED:20240307T214042Z
UID:3445-1711274400-1711283400@churchmessiahpulaski.com
SUMMARY:Palm Sunday Liturgy of the Palms in the garden
DESCRIPTION:Palm Sunday Liturgy of the Palms in the garden
URL:https://churchmessiahpulaski.com/event/palm-sunday-liturgy-of-the-palms-in-the-garden/
END:VEVENT
END:VCALENDAR