BEGIN:VCALENDAR
VERSION:2.0
PRODID:-//Church Of The Messiah, Episcopal - ECPv6.15.20//NONSGML v1.0//EN
CALSCALE:GREGORIAN
METHOD:PUBLISH
X-WR-CALNAME:Church Of The Messiah, Episcopal
X-ORIGINAL-URL:https://churchmessiahpulaski.com
X-WR-CALDESC:Events for Church Of The Messiah, Episcopal
REFRESH-INTERVAL;VALUE=DURATION:PT1H
X-Robots-Tag:noindex
X-PUBLISHED-TTL:PT1H
BEGIN:VTIMEZONE
TZID:UTC
BEGIN:STANDARD
TZOFFSETFROM:+0000
TZOFFSETTO:+0000
TZNAME:UTC
DTSTART:20200101T000000
END:STANDARD
END:VTIMEZONE
BEGIN:VEVENT
DTSTART;TZID=UTC:20211220T070000
DTEND;TZID=UTC:20211220T080000
DTSTAMP:20260424T124326
CREATED:20211202T192547Z
LAST-MODIFIED:20211202T192547Z
UID:2419-1639983600-1639987200@churchmessiahpulaski.com
SUMMARY:Morning Prayer
DESCRIPTION:Morning Prayer
URL:https://churchmessiahpulaski.com/event/morning-prayer-152/
END:VEVENT
BEGIN:VEVENT
DTSTART;TZID=UTC:20211219T100000
DTEND;TZID=UTC:20211219T120000
DTSTAMP:20260424T124326
CREATED:20211202T192459Z
LAST-MODIFIED:20211202T192459Z
UID:2417-1639908000-1639915200@churchmessiahpulaski.com
SUMMARY:Holy Eucharist
DESCRIPTION:Holy Eucharist
URL:https://churchmessiahpulaski.com/event/holy-eucharist-143/
END:VEVENT
BEGIN:VEVENT
DTSTART;TZID=UTC:20211218T080000
DTEND;TZID=UTC:20211218T110000
DTSTAMP:20260424T124326
CREATED:20211202T193528Z
LAST-MODIFIED:20211202T193722Z
UID:2428-1639814400-1639825200@churchmessiahpulaski.com
SUMMARY:RFD Distribution\, Giles County AG Park\, 2014 Elkton Highway
DESCRIPTION:RFD Distribution\, Giles County AG Park\, 2014 Elkton Highway
URL:https://churchmessiahpulaski.com/event/rfd-distribution-giles-county-ag-park-2014-elkton-highway-2/
END:VEVENT
BEGIN:VEVENT
DTSTART;TZID=UTC:20211216T173000
DTEND;TZID=UTC:20211216T193000
DTSTAMP:20260424T124326
CREATED:20211202T193334Z
LAST-MODIFIED:20211202T193651Z
UID:2426-1639675800-1639683000@churchmessiahpulaski.com
SUMMARY:RFD Packing Food Boxes\, Sharp Annex\, North Second Street
DESCRIPTION:RFD Packing Food Boxes\, Sharp Annex\, North Second Street
URL:https://churchmessiahpulaski.com/event/rfd-packing-food-boxes-sharp-annex-north-second-street-5/
END:VEVENT
BEGIN:VEVENT
DTSTART;TZID=UTC:20211215T190000
DTEND;TZID=UTC:20211215T200000
DTSTAMP:20260424T124326
CREATED:20211202T192411Z
LAST-MODIFIED:20211202T192411Z
UID:2415-1639594800-1639598400@churchmessiahpulaski.com
SUMMARY:Holy Communion
DESCRIPTION:Holy Communion
URL:https://churchmessiahpulaski.com/event/holy-communion-121/
END:VEVENT
BEGIN:VEVENT
DTSTART;TZID=UTC:20211213T183000
DTEND;TZID=UTC:20211213T200000
DTSTAMP:20260424T124326
CREATED:20211202T192333Z
LAST-MODIFIED:20211202T192333Z
UID:2413-1639420200-1639425600@churchmessiahpulaski.com
SUMMARY:Vestry Meeting
DESCRIPTION:Vestry Meeting
URL:https://churchmessiahpulaski.com/event/vestry-meeting-18/
END:VEVENT
BEGIN:VEVENT
DTSTART;TZID=UTC:20211213T070000
DTEND;TZID=UTC:20211213T080000
DTSTAMP:20260424T124326
CREATED:20211202T192245Z
LAST-MODIFIED:20211202T192245Z
UID:2411-1639378800-1639382400@churchmessiahpulaski.com
SUMMARY:Morning Prayer
DESCRIPTION:Morning Prayer
URL:https://churchmessiahpulaski.com/event/morning-prayer-151/
END:VEVENT
BEGIN:VEVENT
DTSTART;TZID=UTC:20211212T100000
DTEND;TZID=UTC:20211212T120000
DTSTAMP:20260424T124326
CREATED:20211202T192200Z
LAST-MODIFIED:20211202T192200Z
UID:2409-1639303200-1639310400@churchmessiahpulaski.com
SUMMARY:Holy Eucharist
DESCRIPTION:Holy Eucharist
URL:https://churchmessiahpulaski.com/event/holy-eucharist-142/
END:VEVENT
BEGIN:VEVENT
DTSTART;TZID=UTC:20211208T190000
DTEND;TZID=UTC:20211208T200000
DTSTAMP:20260424T124326
CREATED:20211202T192119Z
LAST-MODIFIED:20211202T192119Z
UID:2407-1638990000-1638993600@churchmessiahpulaski.com
SUMMARY:Holy Communion
DESCRIPTION:Holy Communion
URL:https://churchmessiahpulaski.com/event/holy-communion-120/
END:VEVENT
BEGIN:VEVENT
DTSTART;TZID=UTC:20211206T070000
DTEND;TZID=UTC:20211206T080000
DTSTAMP:20260424T124326
CREATED:20211202T214728Z
LAST-MODIFIED:20211202T214728Z
UID:2437-1638774000-1638777600@churchmessiahpulaski.com
SUMMARY:Morning Prayer
DESCRIPTION:Morning Prayer
URL:https://churchmessiahpulaski.com/event/morning-prayer-154/
END:VEVENT
BEGIN:VEVENT
DTSTART;TZID=UTC:20211205T100000
DTEND;TZID=UTC:20211205T120000
DTSTAMP:20260424T124326
CREATED:20211202T191510Z
LAST-MODIFIED:20211202T191510Z
UID:2400-1638698400-1638705600@churchmessiahpulaski.com
SUMMARY:Holy Eucharist
DESCRIPTION:Holy Eucharist
URL:https://churchmessiahpulaski.com/event/holy-eucharist-141/
END:VEVENT
BEGIN:VEVENT
DTSTART;TZID=UTC:20211202T070000
DTEND;TZID=UTC:20211202T080000
DTSTAMP:20260424T124326
CREATED:20211202T192039Z
LAST-MODIFIED:20211202T192039Z
UID:2405-1638428400-1638432000@churchmessiahpulaski.com
SUMMARY:Morning Prayer
DESCRIPTION:Morning Prayer
URL:https://churchmessiahpulaski.com/event/morning-prayer-150/
END:VEVENT
BEGIN:VEVENT
DTSTART;TZID=UTC:20211129T070000
DTEND;TZID=UTC:20211129T080000
DTSTAMP:20260424T124326
CREATED:20211029T200037Z
LAST-MODIFIED:20211029T200037Z
UID:2389-1638169200-1638172800@churchmessiahpulaski.com
SUMMARY:Morning Prayer
DESCRIPTION:Morning Prayer
URL:https://churchmessiahpulaski.com/event/morning-prayer-149/
END:VEVENT
BEGIN:VEVENT
DTSTART;TZID=UTC:20211128T100000
DTEND;TZID=UTC:20211128T120000
DTSTAMP:20260424T124326
CREATED:20211029T200002Z
LAST-MODIFIED:20211029T200002Z
UID:2387-1638093600-1638100800@churchmessiahpulaski.com
SUMMARY:Holy Eucharist
DESCRIPTION:Holy Eucharist
URL:https://churchmessiahpulaski.com/event/holy-eucharist-140/
END:VEVENT
BEGIN:VEVENT
DTSTART;VALUE=DATE:20211126
DTEND;VALUE=DATE:20211127
DTSTAMP:20260424T124326
CREATED:20211029T195914Z
LAST-MODIFIED:20211029T195914Z
UID:2385-1637884800-1637971199@churchmessiahpulaski.com
SUMMARY:Church Office Closed
DESCRIPTION:Church Office Closed
URL:https://churchmessiahpulaski.com/event/church-office-closed-5/
END:VEVENT
BEGIN:VEVENT
DTSTART;VALUE=DATE:20211125
DTEND;VALUE=DATE:20211126
DTSTAMP:20260424T124326
CREATED:20211029T195832Z
LAST-MODIFIED:20211029T195832Z
UID:2383-1637798400-1637884799@churchmessiahpulaski.com
SUMMARY:Happy Thanksgiving Day\, Office Closed
DESCRIPTION:Happy Thanksgiving Day\, Office Closed
URL:https://churchmessiahpulaski.com/event/happy-thanksgiving-day-office-closed/
END:VEVENT
BEGIN:VEVENT
DTSTART;TZID=UTC:20211124T190000
DTEND;TZID=UTC:20211124T200000
DTSTAMP:20260424T124326
CREATED:20211029T195735Z
LAST-MODIFIED:20211029T195735Z
UID:2381-1637780400-1637784000@churchmessiahpulaski.com
SUMMARY:Holy Communion
DESCRIPTION:Holy Communion
URL:https://churchmessiahpulaski.com/event/holy-communion-119/
END:VEVENT
BEGIN:VEVENT
DTSTART;TZID=UTC:20211122T070000
DTEND;TZID=UTC:20211122T080000
DTSTAMP:20260424T124326
CREATED:20211029T195554Z
LAST-MODIFIED:20211029T195554Z
UID:2379-1637564400-1637568000@churchmessiahpulaski.com
SUMMARY:Morning Prayer
DESCRIPTION:Morning Prayer
URL:https://churchmessiahpulaski.com/event/morning-prayer-148/
END:VEVENT
BEGIN:VEVENT
DTSTART;TZID=UTC:20211121T100000
DTEND;TZID=UTC:20211121T120000
DTSTAMP:20260424T124326
CREATED:20211029T195503Z
LAST-MODIFIED:20211029T195503Z
UID:2377-1637488800-1637496000@churchmessiahpulaski.com
SUMMARY:Holy Eucharist
DESCRIPTION:Holy Eucharist
URL:https://churchmessiahpulaski.com/event/holy-eucharist-139/
END:VEVENT
BEGIN:VEVENT
DTSTART;TZID=UTC:20211120T080000
DTEND;TZID=UTC:20211120T110000
DTSTAMP:20260424T124326
CREATED:20211029T195421Z
LAST-MODIFIED:20211029T195421Z
UID:2375-1637395200-1637406000@churchmessiahpulaski.com
SUMMARY:RFD Distribution\, 8:00 a.m.\, Giles County AG Park\, 2030 Elkton Hwy
DESCRIPTION:RFD Distribution\, 8:00 a.m.\, Giles County AG Park\, 2030 Elkton Hwy
URL:https://churchmessiahpulaski.com/event/rfd-distribution-800-a-m-giles-county-ag-park-2030-elkton-hwy/
END:VEVENT
BEGIN:VEVENT
DTSTART;TZID=UTC:20211118T173000
DTEND;TZID=UTC:20211118T193000
DTSTAMP:20260424T124326
CREATED:20211029T195149Z
LAST-MODIFIED:20211029T195149Z
UID:2373-1637256600-1637263800@churchmessiahpulaski.com
SUMMARY:RFD Packing Food Boxes\, 5:30 p.m.\, Sharp Annex\, North Second Street
DESCRIPTION:RFD Packing Food Boxes\, 5:30 p.m.\, Sharp Annex\, North Second Street
URL:https://churchmessiahpulaski.com/event/rfd-packing-food-boxes-530-p-m-sharp-annex-north-second-street/
END:VEVENT
BEGIN:VEVENT
DTSTART;TZID=UTC:20211117T190000
DTEND;TZID=UTC:20211117T200000
DTSTAMP:20260424T124326
CREATED:20211029T194625Z
LAST-MODIFIED:20211029T194625Z
UID:2369-1637175600-1637179200@churchmessiahpulaski.com
SUMMARY:Holy Communion
DESCRIPTION:Holy Communion
URL:https://churchmessiahpulaski.com/event/holy-communion-118/
END:VEVENT
BEGIN:VEVENT
DTSTART;TZID=UTC:20211115T183000
DTEND;TZID=UTC:20211115T200000
DTSTAMP:20260424T124326
CREATED:20211109T182828Z
LAST-MODIFIED:20211109T182828Z
UID:2395-1637001000-1637006400@churchmessiahpulaski.com
SUMMARY:Vestry Meeting
DESCRIPTION:Vestry Meeting
URL:https://churchmessiahpulaski.com/event/vestry-meeting-17/
END:VEVENT
BEGIN:VEVENT
DTSTART;TZID=UTC:20211115T070000
DTEND;TZID=UTC:20211115T080000
DTSTAMP:20260424T124326
CREATED:20211029T194519Z
LAST-MODIFIED:20211029T194519Z
UID:2367-1636959600-1636963200@churchmessiahpulaski.com
SUMMARY:Morning Prayer
DESCRIPTION:Morning Prayer
URL:https://churchmessiahpulaski.com/event/morning-prayer-147/
END:VEVENT
BEGIN:VEVENT
DTSTART;TZID=UTC:20211114T100000
DTEND;TZID=UTC:20211114T120000
DTSTAMP:20260424T124326
CREATED:20211029T194438Z
LAST-MODIFIED:20211029T194438Z
UID:2365-1636884000-1636891200@churchmessiahpulaski.com
SUMMARY:Holy Eucharist
DESCRIPTION:Holy Eucharist
URL:https://churchmessiahpulaski.com/event/holy-eucharist-138/
END:VEVENT
BEGIN:VEVENT
DTSTART;VALUE=DATE:20211111
DTEND;VALUE=DATE:20211112
DTSTAMP:20260424T124326
CREATED:20211109T182624Z
LAST-MODIFIED:20211109T182624Z
UID:2393-1636588800-1636675199@churchmessiahpulaski.com
SUMMARY:Church Office Closed in Observance of Veteran's Day
DESCRIPTION:Church Office Closed in Observance of Veteran’s Day
URL:https://churchmessiahpulaski.com/event/church-office-closed-in-observance-of-veterans-day/
END:VEVENT
BEGIN:VEVENT
DTSTART;TZID=UTC:20211110T190000
DTEND;TZID=UTC:20211110T200000
DTSTAMP:20260424T124326
CREATED:20211028T192957Z
LAST-MODIFIED:20211028T192957Z
UID:2363-1636570800-1636574400@churchmessiahpulaski.com
SUMMARY:Holy Communion Canceled
DESCRIPTION:Holy Communion Canceled
URL:https://churchmessiahpulaski.com/event/holy-communion-canceled/
END:VEVENT
BEGIN:VEVENT
DTSTART;TZID=UTC:20211108T070000
DTEND;TZID=UTC:20211108T080000
DTSTAMP:20260424T124326
CREATED:20211028T192848Z
LAST-MODIFIED:20211028T192848Z
UID:2361-1636354800-1636358400@churchmessiahpulaski.com
SUMMARY:Morning Prayer
DESCRIPTION:Morning Prayer
URL:https://churchmessiahpulaski.com/event/morning-prayer-146/
END:VEVENT
BEGIN:VEVENT
DTSTART;TZID=UTC:20211107T100000
DTEND;TZID=UTC:20211107T120000
DTSTAMP:20260424T124326
CREATED:20211028T192805Z
LAST-MODIFIED:20211028T192805Z
UID:2359-1636279200-1636286400@churchmessiahpulaski.com
SUMMARY:Holy Eucharist
DESCRIPTION:Holy Eucharist
URL:https://churchmessiahpulaski.com/event/holy-eucharist-137/
END:VEVENT
BEGIN:VEVENT
DTSTART;TZID=UTC:20211103T190000
DTEND;TZID=UTC:20211103T200000
DTSTAMP:20260424T124326
CREATED:20211028T192721Z
LAST-MODIFIED:20211028T192721Z
UID:2357-1635966000-1635969600@churchmessiahpulaski.com
SUMMARY:Holy Communion
DESCRIPTION:Holy Communion
URL:https://churchmessiahpulaski.com/event/holy-communion-117/
END:VEVENT
END:VCALENDAR