BEGIN:VCALENDAR
VERSION:2.0
PRODID:-//Church Of The Messiah, Episcopal - ECPv6.15.20//NONSGML v1.0//EN
CALSCALE:GREGORIAN
METHOD:PUBLISH
X-WR-CALNAME:Church Of The Messiah, Episcopal
X-ORIGINAL-URL:https://churchmessiahpulaski.com
X-WR-CALDESC:Events for Church Of The Messiah, Episcopal
REFRESH-INTERVAL;VALUE=DURATION:PT1H
X-Robots-Tag:noindex
X-PUBLISHED-TTL:PT1H
BEGIN:VTIMEZONE
TZID:UTC
BEGIN:STANDARD
TZOFFSETFROM:+0000
TZOFFSETTO:+0000
TZNAME:UTC
DTSTART:20200101T000000
END:STANDARD
END:VTIMEZONE
BEGIN:VEVENT
DTSTART;TZID=UTC:20220209T190000
DTEND;TZID=UTC:20220209T200000
DTSTAMP:20260424T083814
CREATED:20220128T172048Z
LAST-MODIFIED:20220128T172048Z
UID:2493-1644433200-1644436800@churchmessiahpulaski.com
SUMMARY:Wednesday Evening Service Canceled
DESCRIPTION:Wednesday Evening Service Canceled
URL:https://churchmessiahpulaski.com/event/wednesday-evening-service-canceled/
END:VEVENT
BEGIN:VEVENT
DTSTART;TZID=UTC:20220207T070000
DTEND;TZID=UTC:20220207T080000
DTSTAMP:20260424T083814
CREATED:20220128T172143Z
LAST-MODIFIED:20220128T172143Z
UID:2495-1644217200-1644220800@churchmessiahpulaski.com
SUMMARY:Morning Prayer
DESCRIPTION:Morning Prayer
URL:https://churchmessiahpulaski.com/event/morning-prayer-160/
END:VEVENT
BEGIN:VEVENT
DTSTART;TZID=UTC:20220206T100000
DTEND;TZID=UTC:20220206T110000
DTSTAMP:20260424T083814
CREATED:20220128T171934Z
LAST-MODIFIED:20220128T171934Z
UID:2491-1644141600-1644145200@churchmessiahpulaski.com
SUMMARY:Morning Prayer Service
DESCRIPTION:Morning Prayer Service
URL:https://churchmessiahpulaski.com/event/morning-prayer-service/
END:VEVENT
BEGIN:VEVENT
DTSTART;TZID=UTC:20220202T190000
DTEND;TZID=UTC:20220202T200000
DTSTAMP:20260424T083814
CREATED:20220128T171832Z
LAST-MODIFIED:20220128T171832Z
UID:2489-1643828400-1643832000@churchmessiahpulaski.com
SUMMARY:Wednesday Evening Service Canceled This Week
DESCRIPTION:Wednesday Evening Service Canceled This Week
URL:https://churchmessiahpulaski.com/event/wednesday-evening-service-canceled-this-week-2/
END:VEVENT
BEGIN:VEVENT
DTSTART;TZID=UTC:20220131T070000
DTEND;TZID=UTC:20220131T080000
DTSTAMP:20260424T083814
CREATED:20220104T223329Z
LAST-MODIFIED:20220104T223329Z
UID:2485-1643612400-1643616000@churchmessiahpulaski.com
SUMMARY:Morning Prayer
DESCRIPTION:Morning Prayer
URL:https://churchmessiahpulaski.com/event/morning-prayer-159/
END:VEVENT
BEGIN:VEVENT
DTSTART;TZID=UTC:20220130T120000
DTEND;TZID=UTC:20220130T133000
DTSTAMP:20260424T083814
CREATED:20220104T223250Z
LAST-MODIFIED:20220104T223250Z
UID:2483-1643544000-1643549400@churchmessiahpulaski.com
SUMMARY:Messiah's Annual Meeting
DESCRIPTION:Messiah’s Annual Meeting
URL:https://churchmessiahpulaski.com/event/messiahs-annual-meeting/
END:VEVENT
BEGIN:VEVENT
DTSTART;TZID=UTC:20220130T100000
DTEND;TZID=UTC:20220130T120000
DTSTAMP:20260424T083814
CREATED:20220104T223154Z
LAST-MODIFIED:20220104T223154Z
UID:2481-1643536800-1643544000@churchmessiahpulaski.com
SUMMARY:Holy Eucharist
DESCRIPTION:Holy Eucharist
URL:https://churchmessiahpulaski.com/event/holy-eucharist-149/
END:VEVENT
BEGIN:VEVENT
DTSTART;TZID=UTC:20220126T190000
DTEND;TZID=UTC:20220126T200000
DTSTAMP:20260424T083814
CREATED:20220104T223113Z
LAST-MODIFIED:20220104T223113Z
UID:2479-1643223600-1643227200@churchmessiahpulaski.com
SUMMARY:Holy Communion
DESCRIPTION:Holy Communion
URL:https://churchmessiahpulaski.com/event/holy-communion-126/
END:VEVENT
BEGIN:VEVENT
DTSTART;TZID=UTC:20220124T070000
DTEND;TZID=UTC:20220124T080000
DTSTAMP:20260424T083814
CREATED:20220104T223027Z
LAST-MODIFIED:20220104T223027Z
UID:2477-1643007600-1643011200@churchmessiahpulaski.com
SUMMARY:Morning Prayer
DESCRIPTION:Morning Prayer
URL:https://churchmessiahpulaski.com/event/morning-prayer-158/
END:VEVENT
BEGIN:VEVENT
DTSTART;TZID=UTC:20220123T100000
DTEND;TZID=UTC:20220123T120000
DTSTAMP:20260424T083814
CREATED:20220104T222944Z
LAST-MODIFIED:20220104T222944Z
UID:2475-1642932000-1642939200@churchmessiahpulaski.com
SUMMARY:Holy Eucharist
DESCRIPTION:Holy Eucharist
URL:https://churchmessiahpulaski.com/event/holy-eucharist-148/
END:VEVENT
BEGIN:VEVENT
DTSTART;TZID=UTC:20220122T080000
DTEND;TZID=UTC:20220122T110000
DTSTAMP:20260424T083814
CREATED:20220104T175536Z
LAST-MODIFIED:20220104T175536Z
UID:2470-1642838400-1642849200@churchmessiahpulaski.com
SUMMARY:RFD Distribution\, AG Park\, Elkton Hwy
DESCRIPTION:RFD Distribution\, AG Park\, Elkton Hwy
URL:https://churchmessiahpulaski.com/event/rfd-distribution-ag-park-elkton-hwy/
END:VEVENT
BEGIN:VEVENT
DTSTART;VALUE=DATE:20220121
DTEND;VALUE=DATE:20220123
DTSTAMP:20260424T083814
CREATED:20220104T180300Z
LAST-MODIFIED:20220104T180321Z
UID:2472-1642723200-1642895999@churchmessiahpulaski.com
SUMMARY:190th Diocese of Tennessee Convention\, Nashville
DESCRIPTION:190th Diocese of Tennessee Convention\, Nashville
URL:https://churchmessiahpulaski.com/event/190th-diocese-of-tennessee-convention-nashville/
END:VEVENT
BEGIN:VEVENT
DTSTART;TZID=UTC:20220120T173000
DTEND;TZID=UTC:20220120T193000
DTSTAMP:20260424T083814
CREATED:20220104T175358Z
LAST-MODIFIED:20220104T175358Z
UID:2468-1642699800-1642707000@churchmessiahpulaski.com
SUMMARY:RFD Packing Food Boxes\, Sharp Annex\, North Second Street
DESCRIPTION:RFD Packing Food Boxes\, Sharp Annex\, North Second Street
URL:https://churchmessiahpulaski.com/event/rfd-packing-food-boxes-sharp-annex-north-second-street-6/
END:VEVENT
BEGIN:VEVENT
DTSTART;TZID=UTC:20220119T190000
DTEND;TZID=UTC:20220119T200000
DTSTAMP:20260424T083814
CREATED:20220104T175240Z
LAST-MODIFIED:20220104T175240Z
UID:2466-1642618800-1642622400@churchmessiahpulaski.com
SUMMARY:Holy Communion
DESCRIPTION:Holy Communion
URL:https://churchmessiahpulaski.com/event/holy-communion-125/
END:VEVENT
BEGIN:VEVENT
DTSTART;TZID=UTC:20220117T070000
DTEND;TZID=UTC:20220117T080000
DTSTAMP:20260424T083814
CREATED:20220104T175158Z
LAST-MODIFIED:20220104T175158Z
UID:2464-1642402800-1642406400@churchmessiahpulaski.com
SUMMARY:Morning Prayer
DESCRIPTION:Morning Prayer
URL:https://churchmessiahpulaski.com/event/morning-prayer-157/
END:VEVENT
BEGIN:VEVENT
DTSTART;VALUE=DATE:20220117
DTEND;VALUE=DATE:20220118
DTSTAMP:20260424T083814
CREATED:20220104T223903Z
LAST-MODIFIED:20220104T223903Z
UID:2487-1642377600-1642463999@churchmessiahpulaski.com
SUMMARY:Office Closed in Observance of Martin Luther King Day
DESCRIPTION:Office Closed in Observance of Martin Luther King Day
URL:https://churchmessiahpulaski.com/event/office-closed-in-observance-of-martin-luther-king-day/
END:VEVENT
BEGIN:VEVENT
DTSTART;TZID=UTC:20220116T100000
DTEND;TZID=UTC:20220116T120000
DTSTAMP:20260424T083814
CREATED:20220104T175114Z
LAST-MODIFIED:20220104T175114Z
UID:2462-1642327200-1642334400@churchmessiahpulaski.com
SUMMARY:Holy Eucharist
DESCRIPTION:Holy Eucharist
URL:https://churchmessiahpulaski.com/event/holy-eucharist-147/
END:VEVENT
BEGIN:VEVENT
DTSTART;TZID=UTC:20220112T190000
DTEND;TZID=UTC:20220112T200000
DTSTAMP:20260424T083814
CREATED:20220104T172705Z
LAST-MODIFIED:20220104T172705Z
UID:2459-1642014000-1642017600@churchmessiahpulaski.com
SUMMARY:Holy Communion
DESCRIPTION:Holy Communion
URL:https://churchmessiahpulaski.com/event/holy-communion-124/
END:VEVENT
BEGIN:VEVENT
DTSTART;TZID=UTC:20220110T070000
DTEND;TZID=UTC:20220110T080000
DTSTAMP:20260424T083814
CREATED:20220104T172618Z
LAST-MODIFIED:20220104T172618Z
UID:2457-1641798000-1641801600@churchmessiahpulaski.com
SUMMARY:Morning Prayer
DESCRIPTION:Morning Prayer
URL:https://churchmessiahpulaski.com/event/morning-prayer-156/
END:VEVENT
BEGIN:VEVENT
DTSTART;TZID=UTC:20220109T100000
DTEND;TZID=UTC:20220109T120000
DTSTAMP:20260424T083814
CREATED:20220104T172535Z
LAST-MODIFIED:20220104T172535Z
UID:2455-1641722400-1641729600@churchmessiahpulaski.com
SUMMARY:Holy Eucharist
DESCRIPTION:Holy Eucharist
URL:https://churchmessiahpulaski.com/event/holy-eucharist-146/
END:VEVENT
BEGIN:VEVENT
DTSTART;TZID=UTC:20220105T190000
DTEND;TZID=UTC:20220105T200000
DTSTAMP:20260424T083814
CREATED:20220104T172455Z
LAST-MODIFIED:20220104T172455Z
UID:2453-1641409200-1641412800@churchmessiahpulaski.com
SUMMARY:Holy Communion
DESCRIPTION:Holy Communion
URL:https://churchmessiahpulaski.com/event/holy-communion-123/
END:VEVENT
BEGIN:VEVENT
DTSTART;TZID=UTC:20220103T070000
DTEND;TZID=UTC:20220103T080000
DTSTAMP:20260424T083814
CREATED:20220104T172022Z
LAST-MODIFIED:20220104T172022Z
UID:2451-1641193200-1641196800@churchmessiahpulaski.com
SUMMARY:Morning Prayer
DESCRIPTION:Morning Prayer
URL:https://churchmessiahpulaski.com/event/morning-prayer-155/
END:VEVENT
BEGIN:VEVENT
DTSTART;TZID=UTC:20220102T100000
DTEND;TZID=UTC:20220102T113000
DTSTAMP:20260424T083814
CREATED:20211228T193912Z
LAST-MODIFIED:20211228T193912Z
UID:2447-1641117600-1641123000@churchmessiahpulaski.com
SUMMARY:Holy Eucharist
DESCRIPTION:Holy Eucharist
URL:https://churchmessiahpulaski.com/event/holy-eucharist-145/
END:VEVENT
BEGIN:VEVENT
DTSTART;TZID=UTC:20211227T070000
DTEND;TZID=UTC:20211227T080000
DTSTAMP:20260424T083814
CREATED:20211202T193958Z
LAST-MODIFIED:20211202T193958Z
UID:2435-1640588400-1640592000@churchmessiahpulaski.com
SUMMARY:Morning Prayer
DESCRIPTION:Morning Prayer
URL:https://churchmessiahpulaski.com/event/morning-prayer-153/
END:VEVENT
BEGIN:VEVENT
DTSTART;VALUE=DATE:20211227
DTEND;VALUE=DATE:20211228
DTSTAMP:20260424T083814
CREATED:20211202T215008Z
LAST-MODIFIED:20211202T215008Z
UID:2443-1640563200-1640649599@churchmessiahpulaski.com
SUMMARY:Church Office Closed
DESCRIPTION:Church Office Closed
URL:https://churchmessiahpulaski.com/event/church-office-closed-8/
END:VEVENT
BEGIN:VEVENT
DTSTART;TZID=UTC:20211226T100000
DTEND;TZID=UTC:20211226T120000
DTSTAMP:20260424T083814
CREATED:20211202T193918Z
LAST-MODIFIED:20211202T193918Z
UID:2433-1640512800-1640520000@churchmessiahpulaski.com
SUMMARY:Holy Eucharist
DESCRIPTION:Holy Eucharist
URL:https://churchmessiahpulaski.com/event/holy-eucharist-144/
END:VEVENT
BEGIN:VEVENT
DTSTART;VALUE=DATE:20211225
DTEND;VALUE=DATE:20211226
DTSTAMP:20260424T083814
CREATED:20211202T214929Z
LAST-MODIFIED:20211202T214929Z
UID:2441-1640390400-1640476799@churchmessiahpulaski.com
SUMMARY:Church Office Closed
DESCRIPTION:Church Office Closed
URL:https://churchmessiahpulaski.com/event/church-office-closed-7/
END:VEVENT
BEGIN:VEVENT
DTSTART;TZID=UTC:20211224T223000
DTEND;TZID=UTC:20211224T233000
DTSTAMP:20260424T083814
CREATED:20211202T193835Z
LAST-MODIFIED:20211202T215109Z
UID:2431-1640385000-1640388600@churchmessiahpulaski.com
SUMMARY:Christmas Eve Service with Holy Eucharist
DESCRIPTION:Christmas Eve Service with Holy Eucharist
URL:https://churchmessiahpulaski.com/event/christmas-eve-service-3/
END:VEVENT
BEGIN:VEVENT
DTSTART;VALUE=DATE:20211224
DTEND;VALUE=DATE:20211225
DTSTAMP:20260424T083814
CREATED:20211202T214844Z
LAST-MODIFIED:20211202T214844Z
UID:2439-1640304000-1640390399@churchmessiahpulaski.com
SUMMARY:Church Office Closed
DESCRIPTION:Church Office Closed
URL:https://churchmessiahpulaski.com/event/church-office-closed-6/
END:VEVENT
BEGIN:VEVENT
DTSTART;TZID=UTC:20211222T190000
DTEND;TZID=UTC:20211222T200000
DTSTAMP:20260424T083814
CREATED:20211202T192639Z
LAST-MODIFIED:20211202T192639Z
UID:2421-1640199600-1640203200@churchmessiahpulaski.com
SUMMARY:Holy Communion
DESCRIPTION:Holy Communion
URL:https://churchmessiahpulaski.com/event/holy-communion-122/
END:VEVENT
END:VCALENDAR