BEGIN:VCALENDAR
VERSION:2.0
PRODID:-//Church Of The Messiah, Episcopal - ECPv6.15.20//NONSGML v1.0//EN
CALSCALE:GREGORIAN
METHOD:PUBLISH
X-WR-CALNAME:Church Of The Messiah, Episcopal
X-ORIGINAL-URL:https://churchmessiahpulaski.com
X-WR-CALDESC:Events for Church Of The Messiah, Episcopal
REFRESH-INTERVAL;VALUE=DURATION:PT1H
X-Robots-Tag:noindex
X-PUBLISHED-TTL:PT1H
BEGIN:VTIMEZONE
TZID:UTC
BEGIN:STANDARD
TZOFFSETFROM:+0000
TZOFFSETTO:+0000
TZNAME:UTC
DTSTART:20220101T000000
END:STANDARD
END:VTIMEZONE
BEGIN:VEVENT
DTSTART;TZID=UTC:20231204T070000
DTEND;TZID=UTC:20231204T073000
DTSTAMP:20260422T061828
CREATED:20231220T183033Z
LAST-MODIFIED:20231220T183033Z
UID:3295-1701673200-1701675000@churchmessiahpulaski.com
SUMMARY:Morning Prayer
DESCRIPTION:Morning Prayer
URL:https://churchmessiahpulaski.com/event/morning-prayer-242/
END:VEVENT
BEGIN:VEVENT
DTSTART;TZID=UTC:20231204T180000
DTEND;TZID=UTC:20231204T210000
DTSTAMP:20260422T061828
CREATED:20231220T182946Z
LAST-MODIFIED:20231220T182946Z
UID:3293-1701712800-1701723600@churchmessiahpulaski.com
SUMMARY:Ordination of The Rev. Justin L. Taliaferro as Priest
DESCRIPTION:Ordination of The Rev. Justin L. Taliaferro as Priest
URL:https://churchmessiahpulaski.com/event/ordination-of-the-rev-justin-l-taliaferro-as-priest/
END:VEVENT
BEGIN:VEVENT
DTSTART;TZID=UTC:20231206T190000
DTEND;TZID=UTC:20231206T200000
DTSTAMP:20260422T061828
CREATED:20231220T183117Z
LAST-MODIFIED:20231220T183117Z
UID:3297-1701889200-1701892800@churchmessiahpulaski.com
SUMMARY:Holy Eucharist
DESCRIPTION:Holy Eucharist
URL:https://churchmessiahpulaski.com/event/holy-eucharist-234/
END:VEVENT
BEGIN:VEVENT
DTSTART;TZID=UTC:20231210T100000
DTEND;TZID=UTC:20231210T120000
DTSTAMP:20260422T061828
CREATED:20231220T183224Z
LAST-MODIFIED:20231220T183224Z
UID:3299-1702202400-1702209600@churchmessiahpulaski.com
SUMMARY:Holy Eucharist
DESCRIPTION:Holy Eucharist
URL:https://churchmessiahpulaski.com/event/holy-eucharist-235/
END:VEVENT
BEGIN:VEVENT
DTSTART;TZID=UTC:20231211T070000
DTEND;TZID=UTC:20231211T073000
DTSTAMP:20260422T061828
CREATED:20231220T183305Z
LAST-MODIFIED:20231220T183305Z
UID:3301-1702278000-1702279800@churchmessiahpulaski.com
SUMMARY:Morning Prayer
DESCRIPTION:Morning Prayer
URL:https://churchmessiahpulaski.com/event/morning-prayer-243/
END:VEVENT
BEGIN:VEVENT
DTSTART;TZID=UTC:20231213T190000
DTEND;TZID=UTC:20231213T193000
DTSTAMP:20260422T061828
CREATED:20231220T183345Z
LAST-MODIFIED:20231220T183345Z
UID:3303-1702494000-1702495800@churchmessiahpulaski.com
SUMMARY:Holy Eucharist
DESCRIPTION:Holy Eucharist
URL:https://churchmessiahpulaski.com/event/holy-eucharist-236/
END:VEVENT
BEGIN:VEVENT
DTSTART;TZID=UTC:20231217T100000
DTEND;TZID=UTC:20231217T120000
DTSTAMP:20260422T061828
CREATED:20231220T183439Z
LAST-MODIFIED:20231220T183439Z
UID:3305-1702807200-1702814400@churchmessiahpulaski.com
SUMMARY:Holy Eucharist
DESCRIPTION:Holy Eucharist
URL:https://churchmessiahpulaski.com/event/holy-eucharist-237/
END:VEVENT
BEGIN:VEVENT
DTSTART;TZID=UTC:20231218T070000
DTEND;TZID=UTC:20231218T073000
DTSTAMP:20260422T061828
CREATED:20231220T183518Z
LAST-MODIFIED:20231220T183518Z
UID:3307-1702882800-1702884600@churchmessiahpulaski.com
SUMMARY:Morning Prayer
DESCRIPTION:Morning Prayer
URL:https://churchmessiahpulaski.com/event/morning-prayer-244/
END:VEVENT
BEGIN:VEVENT
DTSTART;TZID=UTC:20231220T190000
DTEND;TZID=UTC:20231220T193000
DTSTAMP:20260422T061828
CREATED:20231220T183610Z
LAST-MODIFIED:20231220T183610Z
UID:3309-1703098800-1703100600@churchmessiahpulaski.com
SUMMARY:Holy Eucharist
DESCRIPTION:Holy Eucharist
URL:https://churchmessiahpulaski.com/event/holy-eucharist-238/
END:VEVENT
BEGIN:VEVENT
DTSTART;TZID=UTC:20231221T173000
DTEND;TZID=UTC:20231221T193000
DTSTAMP:20260422T061828
CREATED:20231220T183738Z
LAST-MODIFIED:20231220T183738Z
UID:3311-1703179800-1703187000@churchmessiahpulaski.com
SUMMARY:Community RFD Packing Food Boxes 216 North Second Street
DESCRIPTION:Community RFD Packing Food Boxes 216 North Second Street
URL:https://churchmessiahpulaski.com/event/community-rfd-packing-food-boxes-216-north-second-street/
END:VEVENT
BEGIN:VEVENT
DTSTART;TZID=UTC:20231223T080000
DTEND;TZID=UTC:20231223T233000
DTSTAMP:20260422T061828
CREATED:20231220T183930Z
LAST-MODIFIED:20231220T183930Z
UID:3313-1703318400-1703374200@churchmessiahpulaski.com
SUMMARY:Community RFD Distribution Food Boxes 2030 Elkton Hwy
DESCRIPTION:Community RFD Distribution Food Boxes 2030 Elkton Hwy
URL:https://churchmessiahpulaski.com/event/community-rfd-distribution-food-boxes-2030-elkton-hwy/
END:VEVENT
BEGIN:VEVENT
DTSTART;TZID=UTC:20231224T100000
DTEND;TZID=UTC:20231224T120000
DTSTAMP:20260422T061828
CREATED:20231220T184010Z
LAST-MODIFIED:20231220T184010Z
UID:3315-1703412000-1703419200@churchmessiahpulaski.com
SUMMARY:Holy Eucharist
DESCRIPTION:Holy Eucharist
URL:https://churchmessiahpulaski.com/event/holy-eucharist-239/
END:VEVENT
BEGIN:VEVENT
DTSTART;TZID=UTC:20231224T223000
DTEND;TZID=UTC:20231225T003000
DTSTAMP:20260422T061828
CREATED:20231220T184230Z
LAST-MODIFIED:20231220T184230Z
UID:3317-1703457000-1703464200@churchmessiahpulaski.com
SUMMARY:Christmas Eve Mass
DESCRIPTION:Christmas Eve Mass
URL:https://churchmessiahpulaski.com/event/christmas-eve-mass/
END:VEVENT
BEGIN:VEVENT
DTSTART;VALUE=DATE:20231225
DTEND;VALUE=DATE:20231226
DTSTAMP:20260422T061828
CREATED:20231220T184558Z
LAST-MODIFIED:20231220T184558Z
UID:3325-1703462400-1703548799@churchmessiahpulaski.com
SUMMARY:Church Office Closed
DESCRIPTION:Church Office Closed
URL:https://churchmessiahpulaski.com/event/church-office-closed-12/
END:VEVENT
BEGIN:VEVENT
DTSTART;TZID=UTC:20231225T103000
DTEND;TZID=UTC:20231225T113000
DTSTAMP:20260422T061828
CREATED:20231220T184322Z
LAST-MODIFIED:20231220T184322Z
UID:3319-1703500200-1703503800@churchmessiahpulaski.com
SUMMARY:Christmas Day Holy Eucharist
DESCRIPTION:Christmas Day Holy Eucharist
URL:https://churchmessiahpulaski.com/event/christmas-day-holy-eucharist/
END:VEVENT
BEGIN:VEVENT
DTSTART;VALUE=DATE:20231226
DTEND;VALUE=DATE:20231227
DTSTAMP:20260422T061828
CREATED:20231220T184633Z
LAST-MODIFIED:20231220T184633Z
UID:3327-1703548800-1703635199@churchmessiahpulaski.com
SUMMARY:Church Office Closed
DESCRIPTION:Church Office Closed
URL:https://churchmessiahpulaski.com/event/church-office-closed-13/
END:VEVENT
BEGIN:VEVENT
DTSTART;VALUE=DATE:20231227
DTEND;VALUE=DATE:20231228
DTSTAMP:20260422T061828
CREATED:20231220T184522Z
LAST-MODIFIED:20231220T184522Z
UID:3323-1703635200-1703721599@churchmessiahpulaski.com
SUMMARY:Wednesday Evening Holy Eucharist Cancel this week only
DESCRIPTION:Wednesday Evening Holy Eucharist Cancel This Weel Only
URL:https://churchmessiahpulaski.com/event/wednesday-evening-holy-eucharist-cancel-this-week-only/
END:VEVENT
BEGIN:VEVENT
DTSTART;TZID=UTC:20231227T070000
DTEND;TZID=UTC:20231227T073000
DTSTAMP:20260422T061828
CREATED:20231220T184407Z
LAST-MODIFIED:20231220T184407Z
UID:3321-1703660400-1703662200@churchmessiahpulaski.com
SUMMARY:Morning Prayer
DESCRIPTION:Morning Prayer
URL:https://churchmessiahpulaski.com/event/morning-prayer-245/
END:VEVENT
BEGIN:VEVENT
DTSTART;TZID=UTC:20231231T100000
DTEND;TZID=UTC:20231231T120000
DTSTAMP:20260422T061828
CREATED:20231220T184712Z
LAST-MODIFIED:20231220T184712Z
UID:3329-1704016800-1704024000@churchmessiahpulaski.com
SUMMARY:Holy Eucharist
DESCRIPTION:Holy Eucharist
URL:https://churchmessiahpulaski.com/event/holy-eucharist-240/
END:VEVENT
BEGIN:VEVENT
DTSTART;VALUE=DATE:20240101
DTEND;VALUE=DATE:20240102
DTSTAMP:20260422T061828
CREATED:20240104T161156Z
LAST-MODIFIED:20240104T161156Z
UID:3333-1704067200-1704153599@churchmessiahpulaski.com
SUMMARY:Office Closed
DESCRIPTION:Office Closed
URL:https://churchmessiahpulaski.com/event/office-closed-3/
END:VEVENT
BEGIN:VEVENT
DTSTART;TZID=UTC:20240102T070000
DTEND;TZID=UTC:20240102T073000
DTSTAMP:20260422T061828
CREATED:20240104T161118Z
LAST-MODIFIED:20240104T161118Z
UID:3331-1704178800-1704180600@churchmessiahpulaski.com
SUMMARY:Morning Prayer
DESCRIPTION:Morning Prayer
URL:https://churchmessiahpulaski.com/event/morning-prayer-246/
END:VEVENT
BEGIN:VEVENT
DTSTART;TZID=UTC:20240103T190000
DTEND;TZID=UTC:20240103T200000
DTSTAMP:20260422T061828
CREATED:20240104T161230Z
LAST-MODIFIED:20240104T161230Z
UID:3335-1704308400-1704312000@churchmessiahpulaski.com
SUMMARY:Holy Eucharist
DESCRIPTION:Holy Eucharist
URL:https://churchmessiahpulaski.com/event/holy-eucharist-241/
END:VEVENT
BEGIN:VEVENT
DTSTART;TZID=UTC:20240107T100000
DTEND;TZID=UTC:20240107T120000
DTSTAMP:20260422T061828
CREATED:20240104T161310Z
LAST-MODIFIED:20240104T161310Z
UID:3337-1704621600-1704628800@churchmessiahpulaski.com
SUMMARY:Holy Eucharist
DESCRIPTION:Holy Eucharist
URL:https://churchmessiahpulaski.com/event/holy-eucharist-242/
END:VEVENT
BEGIN:VEVENT
DTSTART;TZID=UTC:20240108T070000
DTEND;TZID=UTC:20240108T073000
DTSTAMP:20260422T061828
CREATED:20240104T161346Z
LAST-MODIFIED:20240104T161346Z
UID:3339-1704697200-1704699000@churchmessiahpulaski.com
SUMMARY:Morning Prayer
DESCRIPTION:Morning Prayer
URL:https://churchmessiahpulaski.com/event/morning-prayer-247/
END:VEVENT
BEGIN:VEVENT
DTSTART;TZID=UTC:20240108T163000
DTEND;TZID=UTC:20240108T183000
DTSTAMP:20260422T061828
CREATED:20240104T163318Z
LAST-MODIFIED:20240104T163318Z
UID:3367-1704731400-1704738600@churchmessiahpulaski.com
SUMMARY:Vestry Meeting
DESCRIPTION:Vestry Meeting
URL:https://churchmessiahpulaski.com/event/vestry-meeting-29/
END:VEVENT
BEGIN:VEVENT
DTSTART;TZID=UTC:20240110T190000
DTEND;TZID=UTC:20240110T200000
DTSTAMP:20260422T061828
CREATED:20240104T161423Z
LAST-MODIFIED:20240104T161423Z
UID:3341-1704913200-1704916800@churchmessiahpulaski.com
SUMMARY:Holy Eucharist
DESCRIPTION:Holy Eucharist
URL:https://churchmessiahpulaski.com/event/holy-eucharist-243/
END:VEVENT
BEGIN:VEVENT
DTSTART;TZID=UTC:20240114T100000
DTEND;TZID=UTC:20240114T120000
DTSTAMP:20260422T061828
CREATED:20240104T161505Z
LAST-MODIFIED:20240104T161505Z
UID:3343-1705226400-1705233600@churchmessiahpulaski.com
SUMMARY:Holy Eucharist
DESCRIPTION:Holy Eucharist
URL:https://churchmessiahpulaski.com/event/holy-eucharist-244/
END:VEVENT
BEGIN:VEVENT
DTSTART;VALUE=DATE:20240115
DTEND;VALUE=DATE:20240116
DTSTAMP:20260422T061828
CREATED:20240104T162617Z
LAST-MODIFIED:20240104T162617Z
UID:3365-1705276800-1705363199@churchmessiahpulaski.com
SUMMARY:Office Closed in Observance Martin Luther King Day
DESCRIPTION:Office Closed in Observance Martin Luther King Day
URL:https://churchmessiahpulaski.com/event/office-closed-in-observance-martin-luther-king-day/
END:VEVENT
BEGIN:VEVENT
DTSTART;TZID=UTC:20240115T070000
DTEND;TZID=UTC:20240115T073000
DTSTAMP:20260422T061828
CREATED:20240104T161553Z
LAST-MODIFIED:20240104T161553Z
UID:3345-1705302000-1705303800@churchmessiahpulaski.com
SUMMARY:Morning Prayer
DESCRIPTION:Morning Prayer
URL:https://churchmessiahpulaski.com/event/morning-prayer-248/
END:VEVENT
BEGIN:VEVENT
DTSTART;TZID=UTC:20240117T190000
DTEND;TZID=UTC:20240117T200000
DTSTAMP:20260422T061828
CREATED:20240104T161626Z
LAST-MODIFIED:20240104T161626Z
UID:3347-1705518000-1705521600@churchmessiahpulaski.com
SUMMARY:Holy Eucharist
DESCRIPTION:Holy Eucharist
URL:https://churchmessiahpulaski.com/event/holy-eucharist-245/
END:VEVENT
END:VCALENDAR