BEGIN:VCALENDAR
VERSION:2.0
PRODID:-//Church Of The Messiah, Episcopal - ECPv6.15.20//NONSGML v1.0//EN
CALSCALE:GREGORIAN
METHOD:PUBLISH
X-WR-CALNAME:Church Of The Messiah, Episcopal
X-ORIGINAL-URL:https://churchmessiahpulaski.com
X-WR-CALDESC:Events for Church Of The Messiah, Episcopal
REFRESH-INTERVAL;VALUE=DURATION:PT1H
X-Robots-Tag:noindex
X-PUBLISHED-TTL:PT1H
BEGIN:VTIMEZONE
TZID:UTC
BEGIN:STANDARD
TZOFFSETFROM:+0000
TZOFFSETTO:+0000
TZNAME:UTC
DTSTART:20210101T000000
END:STANDARD
END:VTIMEZONE
BEGIN:VEVENT
DTSTART;TZID=UTC:20220420T190000
DTEND;TZID=UTC:20220420T200000
DTSTAMP:20260422T025713
CREATED:20220322T151643Z
LAST-MODIFIED:20220322T151643Z
UID:2586-1650481200-1650484800@churchmessiahpulaski.com
SUMMARY:Holy Communion
DESCRIPTION:Holy Communion
URL:https://churchmessiahpulaski.com/event/holy-communion-135/
END:VEVENT
BEGIN:VEVENT
DTSTART;TZID=UTC:20220418T070000
DTEND;TZID=UTC:20220418T080000
DTSTAMP:20260422T025713
CREATED:20220322T151558Z
LAST-MODIFIED:20220322T151558Z
UID:2584-1650265200-1650268800@churchmessiahpulaski.com
SUMMARY:Morning Prayer
DESCRIPTION:Morning Prayer
URL:https://churchmessiahpulaski.com/event/morning-prayer-170/
END:VEVENT
BEGIN:VEVENT
DTSTART;VALUE=DATE:20220418
DTEND;VALUE=DATE:20220419
DTSTAMP:20260422T025713
CREATED:20220407T195753Z
LAST-MODIFIED:20220407T195753Z
UID:2599-1650240000-1650326399@churchmessiahpulaski.com
SUMMARY:Church Office Closed
DESCRIPTION:Church Office Closed
URL:https://churchmessiahpulaski.com/event/church-office-closed-9/
END:VEVENT
BEGIN:VEVENT
DTSTART;TZID=UTC:20220417T100000
DTEND;TZID=UTC:20220417T120000
DTSTAMP:20260422T025713
CREATED:20220322T151438Z
LAST-MODIFIED:20220322T151438Z
UID:2582-1650189600-1650196800@churchmessiahpulaski.com
SUMMARY:Holy Eucharist Easter Sunday
DESCRIPTION:Holy Eucharist Easter Sunday
URL:https://churchmessiahpulaski.com/event/holy-eucharist-easter-sunday/
END:VEVENT
BEGIN:VEVENT
DTSTART;TZID=UTC:20220415T190000
DTEND;TZID=UTC:20220415T210000
DTSTAMP:20260422T025713
CREATED:20220322T151206Z
LAST-MODIFIED:20220322T151206Z
UID:2578-1650049200-1650056400@churchmessiahpulaski.com
SUMMARY:Evening Good Friday Service
DESCRIPTION:Evening Good Friday Service
URL:https://churchmessiahpulaski.com/event/evening-good-friday-service/
END:VEVENT
BEGIN:VEVENT
DTSTART;TZID=UTC:20220415T120000
DTEND;TZID=UTC:20220415T130000
DTSTAMP:20260422T025713
CREATED:20220322T151115Z
LAST-MODIFIED:20220322T151115Z
UID:2576-1650024000-1650027600@churchmessiahpulaski.com
SUMMARY:Good Friday Service at Noon
DESCRIPTION:Good Friday Service at Noon
URL:https://churchmessiahpulaski.com/event/good-friday-service-at-noon/
END:VEVENT
BEGIN:VEVENT
DTSTART;VALUE=DATE:20220415
DTEND;VALUE=DATE:20220416
DTSTAMP:20260422T025713
CREATED:20220413T181057Z
LAST-MODIFIED:20220413T181057Z
UID:2603-1649980800-1650067199@churchmessiahpulaski.com
SUMMARY:Church Office Closed in Observance of Good Friday
DESCRIPTION:Church Office Closed in Observance of Good Friday
URL:https://churchmessiahpulaski.com/event/church-office-closed-in-observance-of-good-friday/
END:VEVENT
BEGIN:VEVENT
DTSTART;TZID=UTC:20220414T190000
DTEND;TZID=UTC:20220414T220000
DTSTAMP:20260422T025713
CREATED:20220322T151013Z
LAST-MODIFIED:20220407T195918Z
UID:2574-1649962800-1649973600@churchmessiahpulaski.com
SUMMARY:Maundy Thursday Holy Communion Service\, Vigil
DESCRIPTION:Maundy Thursday Holy Communion Service\, Vigil
URL:https://churchmessiahpulaski.com/event/maundy-thursday-service-vigil/
END:VEVENT
BEGIN:VEVENT
DTSTART;TZID=UTC:20220413T190000
DTEND;TZID=UTC:20220413T200000
DTSTAMP:20260422T025713
CREATED:20220322T151323Z
LAST-MODIFIED:20220322T151323Z
UID:2580-1649876400-1649880000@churchmessiahpulaski.com
SUMMARY:Holy Communion
DESCRIPTION:Holy Communion
URL:https://churchmessiahpulaski.com/event/holy-communion-134/
END:VEVENT
BEGIN:VEVENT
DTSTART;TZID=UTC:20220411T070000
DTEND;TZID=UTC:20220411T080000
DTSTAMP:20260422T025713
CREATED:20220322T150737Z
LAST-MODIFIED:20220322T150737Z
UID:2572-1649660400-1649664000@churchmessiahpulaski.com
SUMMARY:Morning Prayer
DESCRIPTION:Morning Prayer
URL:https://churchmessiahpulaski.com/event/morning-prayer-169/
END:VEVENT
BEGIN:VEVENT
DTSTART;TZID=UTC:20220410T100000
DTEND;TZID=UTC:20220410T120000
DTSTAMP:20260422T025713
CREATED:20220322T150556Z
LAST-MODIFIED:20220322T150556Z
UID:2570-1649584800-1649592000@churchmessiahpulaski.com
SUMMARY:Palm Sunday\, Holy Eucharist
DESCRIPTION:Palm Sunday\, Holy Eucharist
URL:https://churchmessiahpulaski.com/event/palm-sunday-holy-eucharist-2/
END:VEVENT
BEGIN:VEVENT
DTSTART;TZID=UTC:20220406T190000
DTEND;TZID=UTC:20220406T200000
DTSTAMP:20260422T025713
CREATED:20220322T150401Z
LAST-MODIFIED:20220322T150401Z
UID:2568-1649271600-1649275200@churchmessiahpulaski.com
SUMMARY:Holy Communion
DESCRIPTION:Holy Communion
URL:https://churchmessiahpulaski.com/event/holy-communion-133/
END:VEVENT
BEGIN:VEVENT
DTSTART;TZID=UTC:20220404T070000
DTEND;TZID=UTC:20220404T080000
DTSTAMP:20260422T025713
CREATED:20220322T150318Z
LAST-MODIFIED:20220322T150318Z
UID:2566-1649055600-1649059200@churchmessiahpulaski.com
SUMMARY:Morning Prayer
DESCRIPTION:Morning Prayer
URL:https://churchmessiahpulaski.com/event/morning-prayer-168/
END:VEVENT
BEGIN:VEVENT
DTSTART;TZID=UTC:20220403T100000
DTEND;TZID=UTC:20220403T120000
DTSTAMP:20260422T025713
CREATED:20220322T150233Z
LAST-MODIFIED:20220322T150233Z
UID:2564-1648980000-1648987200@churchmessiahpulaski.com
SUMMARY:Holy Eucharist
DESCRIPTION:Holy Eucharist
URL:https://churchmessiahpulaski.com/event/holy-eucharist-154/
END:VEVENT
BEGIN:VEVENT
DTSTART;TZID=UTC:20220330T190000
DTEND;TZID=UTC:20220330T200000
DTSTAMP:20260422T025713
CREATED:20220225T180331Z
LAST-MODIFIED:20220225T180331Z
UID:2555-1648666800-1648670400@churchmessiahpulaski.com
SUMMARY:Holy Communion
DESCRIPTION:Holy Communion
URL:https://churchmessiahpulaski.com/event/holy-communion-132/
END:VEVENT
BEGIN:VEVENT
DTSTART;TZID=UTC:20220328T070000
DTEND;TZID=UTC:20220328T080000
DTSTAMP:20260422T025713
CREATED:20220225T180241Z
LAST-MODIFIED:20220225T180241Z
UID:2553-1648450800-1648454400@churchmessiahpulaski.com
SUMMARY:Morning Prayer
DESCRIPTION:Morning Prayer
URL:https://churchmessiahpulaski.com/event/morning-prayer-167/
END:VEVENT
BEGIN:VEVENT
DTSTART;TZID=UTC:20220327T100000
DTEND;TZID=UTC:20220327T113000
DTSTAMP:20260422T025713
CREATED:20220225T173425Z
LAST-MODIFIED:20220225T173425Z
UID:2548-1648375200-1648380600@churchmessiahpulaski.com
SUMMARY:Holy Eucharist
DESCRIPTION:Holy Eucharist
URL:https://churchmessiahpulaski.com/event/holy-eucharist-157/
END:VEVENT
BEGIN:VEVENT
DTSTART;TZID=UTC:20220323T190000
DTEND;TZID=UTC:20220323T200000
DTSTAMP:20260422T025713
CREATED:20220225T173229Z
LAST-MODIFIED:20220225T173616Z
UID:2546-1648062000-1648065600@churchmessiahpulaski.com
SUMMARY:Holy Communion
DESCRIPTION:Holy Communion
URL:https://churchmessiahpulaski.com/event/holy-communion-131/
END:VEVENT
BEGIN:VEVENT
DTSTART;TZID=UTC:20220321T070000
DTEND;TZID=UTC:20220321T080000
DTSTAMP:20260422T025713
CREATED:20220225T180138Z
LAST-MODIFIED:20220225T180138Z
UID:2551-1647846000-1647849600@churchmessiahpulaski.com
SUMMARY:Morning Prayer
DESCRIPTION:Morning Prayer
URL:https://churchmessiahpulaski.com/event/morning-prayer-166/
END:VEVENT
BEGIN:VEVENT
DTSTART;TZID=UTC:20220320T100000
DTEND;TZID=UTC:20220320T120000
DTSTAMP:20260422T025713
CREATED:20220128T172543Z
LAST-MODIFIED:20220225T173709Z
UID:2505-1647770400-1647777600@churchmessiahpulaski.com
SUMMARY:Holy Eucharist
DESCRIPTION:Holy Eucharist
URL:https://churchmessiahpulaski.com/event/holy-eucharist-151/
END:VEVENT
BEGIN:VEVENT
DTSTART;TZID=UTC:20220319T083000
DTEND;TZID=UTC:20220319T110000
DTSTAMP:20260422T025713
CREATED:20220225T172948Z
LAST-MODIFIED:20220225T174619Z
UID:2540-1647678600-1647687600@churchmessiahpulaski.com
SUMMARY:Community RFD Distribution\, Giles County AG Park\, Highway 31 South
DESCRIPTION:Community RFD Distribution\, Giles County AG Park\, Highway 31 South
URL:https://churchmessiahpulaski.com/event/community-rfd-distribution-giles-county-ag-park-highway-31-south/
END:VEVENT
BEGIN:VEVENT
DTSTART;TZID=UTC:20220317T123000
DTEND;TZID=UTC:20220317T200000
DTSTAMP:20260422T025713
CREATED:20220225T172759Z
LAST-MODIFIED:20220225T174543Z
UID:2538-1647520200-1647547200@churchmessiahpulaski.com
SUMMARY:Community RFD Packing Food Boxes\, Old Sharp Annex\, North Second Street
DESCRIPTION:Community RFD Packing Food Boxes\, Old Sharp Annex\, North Second Street
URL:https://churchmessiahpulaski.com/event/community-rfd-packing-food-boxes-old-sharp-annex-north-second-street/
END:VEVENT
BEGIN:VEVENT
DTSTART;TZID=UTC:20220316T190000
DTEND;TZID=UTC:20220316T200000
DTSTAMP:20260422T025713
CREATED:20220225T172549Z
LAST-MODIFIED:20220225T174231Z
UID:2536-1647457200-1647460800@churchmessiahpulaski.com
SUMMARY:Holy Communion
DESCRIPTION:Holy Communion
URL:https://churchmessiahpulaski.com/event/holy-communion-130/
END:VEVENT
BEGIN:VEVENT
DTSTART;TZID=UTC:20220314T183000
DTEND;TZID=UTC:20220314T200000
DTSTAMP:20260422T025713
CREATED:20220225T172506Z
LAST-MODIFIED:20220225T180443Z
UID:2534-1647282600-1647288000@churchmessiahpulaski.com
SUMMARY:Vestry Meeting
DESCRIPTION:Vestry Meeting
URL:https://churchmessiahpulaski.com/event/vestry-meeting-20/
END:VEVENT
BEGIN:VEVENT
DTSTART;TZID=UTC:20220314T070000
DTEND;TZID=UTC:20220314T080000
DTSTAMP:20260422T025713
CREATED:20220225T172424Z
LAST-MODIFIED:20220225T173755Z
UID:2532-1647241200-1647244800@churchmessiahpulaski.com
SUMMARY:Morning Prayer
DESCRIPTION:Morning Prayer
URL:https://churchmessiahpulaski.com/event/morning-prayer-165/
END:VEVENT
BEGIN:VEVENT
DTSTART;TZID=UTC:20220313T100000
DTEND;TZID=UTC:20220313T120000
DTSTAMP:20260422T025713
CREATED:20220128T172233Z
LAST-MODIFIED:20220225T173840Z
UID:2497-1647165600-1647172800@churchmessiahpulaski.com
SUMMARY:Holy Eucharist
DESCRIPTION:Holy Eucharist
URL:https://churchmessiahpulaski.com/event/holy-eucharist-150/
END:VEVENT
BEGIN:VEVENT
DTSTART;TZID=UTC:20220309T190000
DTEND;TZID=UTC:20220309T200000
DTSTAMP:20260422T025713
CREATED:20220225T172249Z
LAST-MODIFIED:20220225T174754Z
UID:2528-1646852400-1646856000@churchmessiahpulaski.com
SUMMARY:Holy Communion
DESCRIPTION:Holy Communion
URL:https://churchmessiahpulaski.com/event/holy-communion-129/
END:VEVENT
BEGIN:VEVENT
DTSTART;TZID=UTC:20220307T070000
DTEND;TZID=UTC:20220307T080000
DTSTAMP:20260422T025713
CREATED:20220225T172202Z
LAST-MODIFIED:20220225T174010Z
UID:2526-1646636400-1646640000@churchmessiahpulaski.com
SUMMARY:Morning Prayer
DESCRIPTION:Morning Prayer
URL:https://churchmessiahpulaski.com/event/morning-prayer-164/
END:VEVENT
BEGIN:VEVENT
DTSTART;TZID=UTC:20220306T100000
DTEND;TZID=UTC:20220306T113000
DTSTAMP:20260422T025713
CREATED:20220210T172249Z
LAST-MODIFIED:20220210T172249Z
UID:2518-1646560800-1646566200@churchmessiahpulaski.com
SUMMARY:Holy Eucharist
DESCRIPTION:Holy Eucharist
URL:https://churchmessiahpulaski.com/event/holy-eucharist-153/
END:VEVENT
BEGIN:VEVENT
DTSTART;TZID=UTC:20220302T190000
DTEND;TZID=UTC:20220302T200000
DTSTAMP:20260422T025713
CREATED:20220128T173038Z
LAST-MODIFIED:20220225T174103Z
UID:2515-1646247600-1646251200@churchmessiahpulaski.com
SUMMARY:Ash Wednesday Evening Service
DESCRIPTION:Ash Wednesday Evening Service
URL:https://churchmessiahpulaski.com/event/ash-wednesday-service-3/
END:VEVENT
END:VCALENDAR